BEGIN:VCALENDAR
VERSION:2.0
PRODID:-//https://denbighchristianacademy.com//NONSGML kigkonsult.se iCalcr
 eator 2.29.29//
CALSCALE:GREGORIAN
METHOD:PUBLISH
UID:9ac9b28b-a463-435f-a150-3d2a282ef37a
X-WR-CALNAME:JCal Pro Calendar
X-WR-CALDESC:Your online events calendar
X-WR-TIMEZONE:UTC
BEGIN:VTIMEZONE
TZID:UTC
END:VTIMEZONE
BEGIN:VEVENT
UID:20221209T170000UTC-7619oGTcCi@https://www.denbighchristianacademy.com/
DTSTAMP:20260424T154342Z
CATEGORIES:DCA Events
DESCRIPTION:<p>The 2nd Interim period ends today for 4K and 5K. Reports wil
 l go home Dec. 14.</p>
DTSTART:20221209T000000Z
DTEND:20221209T235959Z
SUMMARY:Second Interim Period ends (4K-5K)
URL:https://denbighchristianacademy.com/index.php/school-calendar/dca-event
 s/11-dca-events/960-second-interim-period-ends-4k-5k
X-ALT-DESC;FMTTYPE=TEXT/HTML:<p>The 2nd Interim period ends today for 4K an
 d 5K. Reports will go home Dec. 14.</p>
END:VEVENT
BEGIN:VEVENT
UID:20221214T170000UTC-2902Au1i03@https://www.denbighchristianacademy.com/
DTSTAMP:20260424T154342Z
CATEGORIES:DCA Events
DESCRIPTION:<p>The 2nd Interim reports will go home today with 4K and 5K. P
 lease sign and return tomorrow.</p>
DTSTART:20221214T000000Z
DTEND:20221214T235959Z
SUMMARY:Second Interim Reports issued (4K-5K)
URL:https://denbighchristianacademy.com/index.php/school-calendar/dca-event
 s/11-dca-events/961-second-interim-reports-issued-4k-5k
X-ALT-DESC;FMTTYPE=TEXT/HTML:<p>The 2nd Interim reports will go home today 
 with 4K and 5K. Please sign and return tomorrow.</p>
END:VEVENT
BEGIN:VEVENT
UID:20221215T193000UTC-5081idaDWw@https://www.denbighchristianacademy.com/
DTSTAMP:20260424T154342Z
CATEGORIES:DCA Events
DESCRIPTION:<p>DCA's Christmas program will begin at 7:30 p.m. in the churc
 h sanctuary.</p>
DTSTART:20221215T193000Z
DTEND:20221215T203000Z
SUMMARY:DCA Christmas program at 7:30 p.m.
URL:https://denbighchristianacademy.com/index.php/school-calendar/dca-event
 s/11-dca-events/962-dca-christmas-program-at-7-30-p-m
X-ALT-DESC;FMTTYPE=TEXT/HTML:<p>DCA's Christmas program will begin at 7:30 
 p.m. in the church sanctuary.</p>
END:VEVENT
BEGIN:VEVENT
UID:20221216T170000UTC-2798okf7OF@https://www.denbighchristianacademy.com/
DTSTAMP:20260424T154342Z
CATEGORIES:DCA Events
DESCRIPTION:<p>Wear red and green today just for fun.</p>
DTSTART:20221216T000000Z
DTEND:20221216T235959Z
SUMMARY:Red and Green Day
URL:https://denbighchristianacademy.com/index.php/school-calendar/dca-event
 s/11-dca-events/963-red-and-green-day
X-ALT-DESC;FMTTYPE=TEXT/HTML:<p>Wear red and green today just for fun.</p>
END:VEVENT
BEGIN:VEVENT
UID:20220915T170000UTC-2690GlVATn@https://www.denbighchristianacademy.com/
DTSTAMP:20260424T154342Z
CATEGORIES:DCA Events
DESCRIPTION:<p>DCA will be closed for Christmas break today through January
  1\, 2023.</p>
DTSTART:20221219T060000Z
DTEND:20221223T180000Z
SUMMARY:DCA CLOSED for Christmas Holiday 12/19/22 - 12/23/22
URL:https://denbighchristianacademy.com/index.php/school-calendar/dca-event
 s/11-dca-events/964-dca-closed-for-christmas-holiday-12-19-22-1-1-23
X-ALT-DESC;FMTTYPE=TEXT/HTML:<p>DCA will be closed for Christmas break toda
 y through January 1\, 2023.</p>
END:VEVENT
BEGIN:VEVENT
UID:20221226T060000UTC-13507p9Kwe@https://www.denbighchristianacademy.com/
DTSTAMP:20260424T154342Z
CATEGORIES:DCA Events
DTSTART:20221226T060000Z
DTEND:20221230T180000Z
SUMMARY:DCA CLOSED for Christmas Holiday 12/26/22 - 12/30/22
URL:https://denbighchristianacademy.com/index.php/school-calendar/dca-event
 s/11-dca-events/965-dca-closed-for-christmas-holiday-12-26-22-1-1-23
END:VEVENT
END:VCALENDAR
