BEGIN:VCALENDAR
VERSION:2.0
PRODID:-//https://denbighchristianacademy.com//NONSGML kigkonsult.se iCalcr
 eator 2.29.29//
CALSCALE:GREGORIAN
METHOD:PUBLISH
UID:edc00a5a-9ab7-4747-9b84-fd749320ffb3
X-WR-CALNAME:JCal Pro Calendar
X-WR-CALDESC:Your online events calendar
X-WR-TIMEZONE:UTC
BEGIN:VTIMEZONE
TZID:UTC
END:VTIMEZONE
BEGIN:VEVENT
UID:20250217T140000UTC-1056NHu9BU@https://www.denbighchristianacademy.com/
DTSTAMP:20260424T150308Z
CATEGORIES:DCA Events
DESCRIPTION:<p>All of DCA is closed for Presidents Day.</p>
DTSTART:20250217T000000Z
DTEND:20250217T235959Z
SUMMARY:President's Day - All of DCA CLOSED
URL:https://denbighchristianacademy.com/index.php/school-calendar/dca-event
 s/11-dca-events/1565-president-s-day-all-of-dca-closed
X-ALT-DESC;FMTTYPE=TEXT/HTML:<p>All of DCA is closed for Presidents Day.</p
 >
END:VEVENT
BEGIN:VEVENT
UID:20250221T140000UTC-5480FToupW@https://www.denbighchristianacademy.com/
DTSTAMP:20260424T150308Z
CATEGORIES:DCA Events
DESCRIPTION:<p>3rd Interim Period ends today for 4k and 5k.</p>
DTSTART:20250221T000000Z
DTEND:20250221T235959Z
SUMMARY:Third Interim Period ends (4k-5k)
URL:https://denbighchristianacademy.com/index.php/school-calendar/dca-event
 s/11-dca-events/1566-third-interim-period-ends-4k-5k
X-ALT-DESC;FMTTYPE=TEXT/HTML:<p>3rd Interim Period ends today for 4k and 5k
 .</p>
END:VEVENT
BEGIN:VEVENT
UID:20250221T140000UTC-0927hfhwPR@https://www.denbighchristianacademy.com/
DTSTAMP:20260424T150308Z
CATEGORIES:DCA Events
DESCRIPTION:<p>Students can wear items related to community helpers like\, 
 firemen\, a nurse\, a teacher\, etc.</p>
DTSTART:20250221T000000Z
DTEND:20250221T235959Z
SUMMARY:Community Helper Day
URL:https://denbighchristianacademy.com/index.php/school-calendar/dca-event
 s/11-dca-events/1567-community-helper-day
X-ALT-DESC;FMTTYPE=TEXT/HTML:<p>Students can wear items related to communit
 y helpers like\, firemen\, a nurse\, a teacher\, etc.</p>
END:VEVENT
END:VCALENDAR
