BEGIN:VCALENDAR
VERSION:2.0
PRODID:-//https://denbighchristianacademy.com//NONSGML kigkonsult.se iCalcr
 eator 2.29.29//
CALSCALE:GREGORIAN
METHOD:PUBLISH
UID:b099938a-5195-4e27-9bb5-f8236be00d45
X-WR-CALNAME:JCal Pro Calendar
X-WR-CALDESC:Your online events calendar
X-WR-TIMEZONE:UTC
BEGIN:VTIMEZONE
TZID:UTC
END:VTIMEZONE
BEGIN:VEVENT
UID:20250815T160000UTC-0604lAOUHf@https://www.denbighchristianacademy.com/
DTSTAMP:20260424T150308Z
CATEGORIES:DCA Events
DESCRIPTION:<p>All of DCA is closed for a Staff Work Day.</p>
DTSTART:20250815T000000Z
DTEND:20250815T235959Z
SUMMARY:Staff Work Day - All of DCA Closed
URL:https://denbighchristianacademy.com/index.php/school-calendar/dca-event
 s/11-dca-events/1772-staff-work-day-all-of-dca-closed
X-ALT-DESC;FMTTYPE=TEXT/HTML:<p>All of DCA is closed for a Staff Work Day.<
 /p>
END:VEVENT
BEGIN:VEVENT
UID:20250818T190000UTC-6540Wvi7E2@https://www.denbighchristianacademy.com/
DTSTAMP:20260424T150308Z
CATEGORIES:DCA Events
DESCRIPTION:<p>Back to School Night begins at 7:00 p.m. in the sanctuary.</
 p>
DTSTART:20250818T190000Z
DTEND:20250818T200000Z
SUMMARY:Back to School Night 7 pm
URL:https://denbighchristianacademy.com/index.php/school-calendar/dca-event
 s/11-dca-events/1626-back-to-school-night-7-pm
X-ALT-DESC;FMTTYPE=TEXT/HTML:<p>Back to School Night begins at 7:00 p.m. in
  the sanctuary.</p>
END:VEVENT
BEGIN:VEVENT
UID:20250825T170000UTC-55753242Op@https://www.denbighchristianacademy.com/
DTSTAMP:20260424T150308Z
CATEGORIES:DCA Events
DESCRIPTION:<p>1st day of the school year 2025-2026.</p>
DTSTART:20250825T000000Z
DTEND:20250825T235959Z
SUMMARY:School Begins
URL:https://denbighchristianacademy.com/index.php/school-calendar/dca-event
 s/11-dca-events/1627-school-begins
X-ALT-DESC;FMTTYPE=TEXT/HTML:<p>1st day of the school year 2025-2026.</p>
END:VEVENT
END:VCALENDAR
