BEGIN:VCALENDAR
VERSION:2.0
PRODID:-//https://denbighchristianacademy.com//NONSGML kigkonsult.se iCalcr
 eator 2.29.29//
CALSCALE:GREGORIAN
METHOD:PUBLISH
UID:110c288e-e263-45cc-b8ef-96f0e17e81fa
X-WR-CALNAME:JCal Pro Calendar
X-WR-CALDESC:Your online events calendar
X-WR-TIMEZONE:UTC
BEGIN:VTIMEZONE
TZID:UTC
END:VTIMEZONE
BEGIN:VEVENT
UID:20191009T170000UTC-3448isdWzS@http://dca.37west.com/
DTSTAMP:20260426T030641Z
CATEGORIES:DCA Events
DTSTART:20191009T000000Z
DTEND:20191009T235959Z
SUMMARY:First Interim Reports issued (4K-5K)
URL:https://denbighchristianacademy.com/index.php/school-calendar/dca-event
 s/11-dca-events/8-first-interim-reports-issued-4k-5k
END:VEVENT
BEGIN:VEVENT
UID:20191011T090000UTC-5634p8wzfV@http://www.denbighchristianacademy.com/
DTSTAMP:20260426T030641Z
CATEGORIES:DCA Events
DESCRIPTION:<p>3 Year Preschool field trip to&nbsp\;<br />Belmont Pumpkin F
 arm<br />155 Belmont Lane<br />Matthews\, VA 23128</p>\n<p>Leave:&nbsp\; 9
 :30 am<br />Return: 1:30 pm</p>
DTSTART:20191011T090000Z
DTEND:20191011T133000Z
SUMMARY:3 Year Field Trip - Belmont Pumpkin Farm
URL:https://denbighchristianacademy.com/index.php/school-calendar/dca-event
 s/11-dca-events/92-3-year-field-trip-belmont-pumpkin-farm
X-ALT-DESC;FMTTYPE=TEXT/HTML:<p>3 Year Preschool field trip to&nbsp\;<br />
 Belmont Pumpkin Farm<br />155 Belmont Lane<br />Matthews\, VA 23128</p>\n<
 p>Leave:&nbsp\; 9:30 am<br />Return: 1:30 pm</p>
END:VEVENT
END:VCALENDAR
