BEGIN:VCALENDAR
VERSION:2.0
PRODID:-//https://denbighchristianacademy.com//NONSGML kigkonsult.se iCalcr
 eator 2.29.29//
CALSCALE:GREGORIAN
METHOD:PUBLISH
UID:26ea2662-22e4-458f-bc43-5c5953d43ef3
X-WR-CALNAME:JCal Pro Calendar
X-WR-CALDESC:Your online events calendar
X-WR-TIMEZONE:UTC
BEGIN:VTIMEZONE
TZID:UTC
END:VTIMEZONE
BEGIN:VEVENT
UID:20191125T180000UTC-2233VSkTcK@http://dca.37west.com/
DTSTAMP:20260426T001022Z
CATEGORIES:DCA Events
DTSTART:20191125T000000Z
DTEND:20191125T235959Z
SUMMARY:Founder’s Day in Honor of Dorothy B. Collins
URL:https://denbighchristianacademy.com/index.php/school-calendar/dca-event
 s/11-dca-events/15-founder-s-day-in-honor-of-dorothy-b-collins
END:VEVENT
BEGIN:VEVENT
UID:20191128T180000UTC-9053svVuKu@http://dca.37west.com/
DTSTAMP:20260426T001022Z
CATEGORIES:DCA Events
DTSTART:20191128T180000Z
DTEND:20191129T192300Z
SUMMARY:THANKSGIVING HOLIDAY – All of DCA Closed
URL:https://denbighchristianacademy.com/index.php/school-calendar/dca-event
 s/11-dca-events/16-thanksgiving-holiday-all-of-dca-closed
END:VEVENT
END:VCALENDAR
