BEGIN:VCALENDAR
VERSION:2.0
PRODID:-//https://denbighchristianacademy.com//NONSGML kigkonsult.se iCalcr
 eator 2.29.29//
CALSCALE:GREGORIAN
METHOD:PUBLISH
UID:1ed60269-4054-46b2-8d4e-b8f49444500e
X-WR-CALNAME:JCal Pro Calendar
X-WR-CALDESC:Your online events calendar
X-WR-TIMEZONE:UTC
BEGIN:VTIMEZONE
TZID:UTC
END:VTIMEZONE
BEGIN:VEVENT
UID:20200120T190000UTC-9079eumNF3@http://dca.37west.com/
DTSTAMP:20260425T225302Z
CATEGORIES:DCA Events
DTSTART:20200120T000000Z
DTEND:20200120T235959Z
SUMMARY:MARTIN LUTHER KING DAY – All of DCA Closed
URL:https://denbighchristianacademy.com/index.php/school-calendar/dca-event
 s/11-dca-events/24-martin-luther-king-day-all-of-dca-closed
END:VEVENT
BEGIN:VEVENT
UID:20200121T190000UTC-6426MRWvV4@http://dca.37west.com/
DTSTAMP:20260425T225302Z
CATEGORIES:DCA Events
DTSTART:20200121T000000Z
DTEND:20200121T235959Z
SUMMARY:Second Semester Begins (4K-5K)
URL:https://denbighchristianacademy.com/index.php/school-calendar/dca-event
 s/11-dca-events/25-second-semester-begins-4k-5k
END:VEVENT
BEGIN:VEVENT
UID:20200122T160000UTC-9551cKhvoo@http://dca.37west.com/
DTSTAMP:20260425T225302Z
CATEGORIES:DCA Events
DTSTART:20200122T000000Z
DTEND:20200122T235959Z
SUMMARY:Second Marking Period Reports issued (4K-5K)
URL:https://denbighchristianacademy.com/index.php/school-calendar/dca-event
 s/11-dca-events/26-second-marking-period-reports-issued-4k-5k
END:VEVENT
END:VCALENDAR
