BEGIN:VCALENDAR
VERSION:2.0
PRODID:-//https://denbighchristianacademy.com//NONSGML kigkonsult.se iCalcr
 eator 2.29.29//
CALSCALE:GREGORIAN
METHOD:PUBLISH
UID:18ff74d4-52a3-417a-84b4-7685bd019277
X-WR-CALNAME:JCal Pro Calendar
X-WR-CALDESC:Your online events calendar
X-WR-TIMEZONE:UTC
BEGIN:VTIMEZONE
TZID:UTC
END:VTIMEZONE
BEGIN:VEVENT
UID:20200131T160000UTC-27793utozX@http://dca.37west.com/
DTSTAMP:20260425T194225Z
CATEGORIES:DCA Events
DTSTART:20200131T000000Z
DTEND:20200131T235959Z
SUMMARY:Sport Day
URL:https://denbighchristianacademy.com/index.php/school-calendar/dca-event
 s/11-dca-events/27-sport-day
END:VEVENT
END:VCALENDAR
