BEGIN:VCALENDAR
VERSION:2.0
PRODID:-//https://denbighchristianacademy.com//NONSGML kigkonsult.se iCalcr
 eator 2.29.29//
CALSCALE:GREGORIAN
METHOD:PUBLISH
UID:63d0a72c-8424-4bb9-bcb2-94a630c36ec5
X-WR-CALNAME:JCal Pro Calendar
X-WR-CALDESC:Your online events calendar
X-WR-TIMEZONE:UTC
BEGIN:VTIMEZONE
TZID:UTC
END:VTIMEZONE
BEGIN:VEVENT
UID:20211013T160000UTC-7478Bvjxgj@http://www.denbighchristianacademy.com/
DTSTAMP:20260426T005021Z
CATEGORIES:DCA Events
DESCRIPTION:<p>First Interim Reports issued (4K-5K)</p>
DTSTART:20211013T000000Z
DTEND:20211013T235959Z
SUMMARY:1st Interim Reports issued (4K-5K)
URL:https://denbighchristianacademy.com/index.php/school-calendar/dca-event
 s/11-dca-events/636-1st-interim-reports-issued-4k-5k
X-ALT-DESC;FMTTYPE=TEXT/HTML:<p>First Interim Reports issued (4K-5K)</p>
END:VEVENT
END:VCALENDAR
