BEGIN:VCALENDAR
VERSION:2.0
PRODID:-//https://denbighchristianacademy.com//NONSGML kigkonsult.se iCalcr
 eator 2.29.29//
CALSCALE:GREGORIAN
METHOD:PUBLISH
UID:7456f2d3-e1d8-47b2-80d0-022c42982e0f
X-WR-CALNAME:JCal Pro Calendar
X-WR-CALDESC:Your online events calendar
X-WR-TIMEZONE:UTC
BEGIN:VTIMEZONE
TZID:UTC
END:VTIMEZONE
BEGIN:VEVENT
UID:20230220T180000UTC-1708Zw0Dd2@https://www.denbighchristianacademy.com/
DTSTAMP:20260424T234121Z
CATEGORIES:DCA Events
DESCRIPTION:<p>All of DCA is closed in observance of President's Day.</p>
DTSTART:20230220T000000Z
DTEND:20230220T235959Z
SUMMARY:President's Day - All of DCA CLOSED
URL:https://denbighchristianacademy.com/index.php/school-calendar/dca-event
 s/11-dca-events/972-president-s-day-all-of-dca-closed
X-ALT-DESC;FMTTYPE=TEXT/HTML:<p>All of DCA is closed in observance of Presi
 dent's Day.</p>
END:VEVENT
BEGIN:VEVENT
UID:20230224T180000UTC-7417rn2lUB@https://www.denbighchristianacademy.com/
DTSTAMP:20260424T234121Z
CATEGORIES:DCA Events
DESCRIPTION:<p>The 3rd Interim period ends today for 4 and 5K. Reports will
  go home March 1. Please sign and return the next day.</p>
DTSTART:20230224T000000Z
DTEND:20230224T235959Z
SUMMARY:Third Interim Period ends (4K-5K)
URL:https://denbighchristianacademy.com/index.php/school-calendar/dca-event
 s/11-dca-events/973-third-interim-period-ends-4k-5k
X-ALT-DESC;FMTTYPE=TEXT/HTML:<p>The 3rd Interim period ends today for 4 and
  5K. Reports will go home March 1. Please sign and return the next day.</p
 >
END:VEVENT
BEGIN:VEVENT
UID:20230224T180000UTC-6683034oUJ@https://www.denbighchristianacademy.com/
DTSTAMP:20260424T234121Z
CATEGORIES:DCA Events
DESCRIPTION:<p>This is a day the students can dress up as community helpers
 \, like a fireman\, nurse\, doctor\, chef\, policeman\, trashman\, veterin
 arian\, military personell\, farmer\, librarian\, paramedic\, and more.</p
 >
DTSTART:20230224T000000Z
DTEND:20230224T235959Z
SUMMARY:Community Helper Day
URL:https://denbighchristianacademy.com/index.php/school-calendar/dca-event
 s/11-dca-events/974-community-helper-day
X-ALT-DESC;FMTTYPE=TEXT/HTML:<p>This is a day the students can dress up as 
 community helpers\, like a fireman\, nurse\, doctor\, chef\, policeman\, t
 rashman\, veterinarian\, military personell\, farmer\, librarian\, paramed
 ic\, and more.</p>
END:VEVENT
END:VCALENDAR
