BEGIN:VCALENDAR
VERSION:2.0
PRODID:-//https://denbighchristianacademy.com//NONSGML kigkonsult.se iCalcr
 eator 2.29.29//
CALSCALE:GREGORIAN
METHOD:PUBLISH
UID:d2998e27-32e4-4e2e-b94d-9fc0d2cc1971
X-WR-CALNAME:JCal Pro Calendar
X-WR-CALDESC:Your online events calendar
X-WR-TIMEZONE:UTC
BEGIN:VTIMEZONE
TZID:UTC
END:VTIMEZONE
BEGIN:VEVENT
UID:20230403T060000UTC-55827X4WVi@https://www.denbighchristianacademy.com/
DTSTAMP:20260425T024038Z
CATEGORIES:DCA Events
DESCRIPTION:<p>4K and 5K classes are on spring break this week. Preschool a
 nd childcare are still open.</p>
DTSTART:20230403T060000Z
DTEND:20230407T180000Z
SUMMARY:Spring Break for 4K and 5K. Preschool & Daycare are OPEN
URL:https://denbighchristianacademy.com/index.php/school-calendar/dca-event
 s/11-dca-events/979-spring-break-for-4k-and-5k-preschool-daycare-are-open
X-ALT-DESC;FMTTYPE=TEXT/HTML:<p>4K and 5K classes are on spring break this 
 week. Preschool and childcare are still open.</p>
END:VEVENT
END:VCALENDAR
