BEGIN:VCALENDAR
VERSION:2.0
PRODID:-//https://denbighchristianacademy.com//NONSGML kigkonsult.se iCalcr
 eator 2.29.29//
CALSCALE:GREGORIAN
METHOD:PUBLISH
UID:cf574bae-30e9-4ee6-aa6c-cbced173b285
X-WR-CALNAME:JCal Pro Calendar
X-WR-CALDESC:Your online events calendar
X-WR-TIMEZONE:UTC
BEGIN:VTIMEZONE
TZID:UTC
END:VTIMEZONE
BEGIN:VEVENT
UID:20231020T060000UTC-0047A6xI5U@https://www.denbighchristianacademy.com/
DTSTAMP:20260425T105330Z
CATEGORIES:DCA Events
DESCRIPTION:Students and staff can wear funny/crazy socks today.
DTSTART:20231020T000000Z
DTEND:20231020T235959Z
SUMMARY:Crazy Sock Day
URL:https://denbighchristianacademy.com/index.php/school-calendar/dca-event
 s/11-dca-events/1180-crazy-sock-day
X-ALT-DESC;FMTTYPE=TEXT/HTML:Students and staff can wear funny/crazy socks 
 today.
END:VEVENT
END:VCALENDAR
