BEGIN:VCALENDAR
VERSION:2.0
PRODID:-//https://denbighchristianacademy.com//NONSGML kigkonsult.se iCalcr
 eator 2.29.29//
CALSCALE:GREGORIAN
METHOD:PUBLISH
UID:aa3f77fd-ed12-4e38-8b49-79a261cdf670
X-WR-CALNAME:JCal Pro Calendar
X-WR-CALDESC:Your online events calendar
X-WR-TIMEZONE:UTC
BEGIN:VTIMEZONE
TZID:UTC
END:VTIMEZONE
BEGIN:VEVENT
UID:20231023T203000UTC-1083iMF29N@https://www.denbighchristianacademy.com/
DTSTAMP:20260425T105318Z
CATEGORIES:DCA Events
DESCRIPTION:Our 2 and 2 1/2 year olds will have their pictures taken today 
 along with a class picture.
DTSTART:20231023T203000Z
DTEND:20231023T223000Z
SUMMARY:2 - 2 1/2 year Individual student photos & Class Pictures at 8:30
URL:https://denbighchristianacademy.com/index.php/school-calendar/dca-event
 s/11-dca-events/1181-2-2-1-2-year-individual-student-photos-class-pictures
 -at-8-30
X-ALT-DESC;FMTTYPE=TEXT/HTML:Our 2 and 2 1/2 year olds will have their pict
 ures taken today along with a class picture.
END:VEVENT
BEGIN:VEVENT
UID:20231024T203000UTC-5257WI0Vaa@https://www.denbighchristianacademy.com/
DTSTAMP:20260425T105318Z
CATEGORIES:DCA Events
DESCRIPTION:The 3 year olds will have their photo and a class picture taken
  today.
DTSTART:20231024T203000Z
DTEND:20231024T223000Z
SUMMARY:3 Year Old Photos & Class Pictures - 8:30 am
URL:https://denbighchristianacademy.com/index.php/school-calendar/dca-event
 s/11-dca-events/1182-3-year-old-photos-class-pictures-8-30-am
X-ALT-DESC;FMTTYPE=TEXT/HTML:The 3 year olds will have their photo and a cl
 ass picture taken today.
END:VEVENT
BEGIN:VEVENT
UID:20231025T203000UTC-6306uhFu2U@https://www.denbighchristianacademy.com/
DTSTAMP:20260425T105318Z
CATEGORIES:DCA Events
DESCRIPTION:4K and 5K will have their photos and class pictures taken today
  beginning at 8:30 am.
DTSTART:20231025T203000Z
DTEND:20231025T223000Z
SUMMARY:4k & 5K Photos and Class Pictures 8:30 am
URL:https://denbighchristianacademy.com/index.php/school-calendar/dca-event
 s/11-dca-events/1183-4k-5k-photos-and-class-pictures-8-30-am
X-ALT-DESC;FMTTYPE=TEXT/HTML:4K and 5K will have their photos and class pic
 tures taken today beginning at 8:30 am.
END:VEVENT
BEGIN:VEVENT
UID:20231027T140000UTC-6772j7UjwR@https://www.denbighchristianacademy.com/
DTSTAMP:20260425T105318Z
CATEGORIES:DCA Events
DESCRIPTION:First Marking Period ends today for 4K and 5K.
DTSTART:20231027T000000Z
DTEND:20231027T235959Z
SUMMARY:1st Marking Period ends (4K & 5K)
URL:https://denbighchristianacademy.com/index.php/school-calendar/dca-event
 s/11-dca-events/1184-1st-marking-period-ends-4k-5k
X-ALT-DESC;FMTTYPE=TEXT/HTML:First Marking Period ends today for 4K and 5K.
END:VEVENT
END:VCALENDAR
