BEGIN:VCALENDAR
VERSION:2.0
PRODID:-//https://denbighchristianacademy.com//NONSGML kigkonsult.se iCalcr
 eator 2.29.29//
CALSCALE:GREGORIAN
METHOD:PUBLISH
UID:b4269c8b-18a3-49cb-bea1-83899ccea492
X-WR-CALNAME:JCal Pro Calendar
X-WR-CALDESC:Your online events calendar
X-WR-TIMEZONE:UTC
BEGIN:VTIMEZONE
TZID:UTC
END:VTIMEZONE
BEGIN:VEVENT
UID:20231123T060000UTC-81721vb9EF@https://www.denbighchristianacademy.com/
DTSTAMP:20260425T105318Z
CATEGORIES:DCA Events
DESCRIPTION:All of DCA is CLOSED for the Thanksgiving Holiday.
DTSTART:20231123T060000Z
DTEND:20231124T180000Z
SUMMARY:Thanksgiving Holiday - All of DCA CLOSED
URL:https://denbighchristianacademy.com/index.php/school-calendar/dca-event
 s/11-dca-events/1189-thanksgiving-holiday-all-of-dca-closed
X-ALT-DESC;FMTTYPE=TEXT/HTML:All of DCA is CLOSED for the Thanksgiving Holi
 day.
END:VEVENT
END:VCALENDAR
