BEGIN:VCALENDAR
VERSION:2.0
PRODID:-//https://denbighchristianacademy.com//NONSGML kigkonsult.se iCalcr
 eator 2.29.29//
CALSCALE:GREGORIAN
METHOD:PUBLISH
UID:51a17553-51cd-4942-8dc2-a814ff82fb8e
X-WR-CALNAME:JCal Pro Calendar
X-WR-CALDESC:Your online events calendar
X-WR-TIMEZONE:UTC
BEGIN:VTIMEZONE
TZID:UTC
END:VTIMEZONE
BEGIN:VEVENT
UID:20240327T060000UTC-07384RVX26@https://www.denbighchristianacademy.com/
DTSTAMP:20260425T035625Z
CATEGORIES:DCA Events
DESCRIPTION:<p>Third Marking Period Reports will go home with 4K and 5K tod
 ay.</p>
DTSTART:20240327T000000Z
DTEND:20240327T235959Z
SUMMARY:3rd Marking Period Reports issued (4K-5K)
URL:https://denbighchristianacademy.com/index.php/school-calendar/dca-event
 s/11-dca-events/1209-3rd-marking-period-reports-issued-4k-5k
X-ALT-DESC;FMTTYPE=TEXT/HTML:<p>Third Marking Period Reports will go home w
 ith 4K and 5K today.</p>
END:VEVENT
END:VCALENDAR
