BEGIN:VCALENDAR
VERSION:2.0
PRODID:-//https://denbighchristianacademy.com//NONSGML kigkonsult.se iCalcr
 eator 2.29.29//
CALSCALE:GREGORIAN
METHOD:PUBLISH
UID:345c9698-5b16-4079-96e2-8d5d652524bd
X-WR-CALNAME:JCal Pro Calendar
X-WR-CALDESC:Your online events calendar
X-WR-TIMEZONE:UTC
BEGIN:VTIMEZONE
TZID:UTC
END:VTIMEZONE
BEGIN:VEVENT
UID:20240401T060000UTC-1438TGUFcU@https://www.denbighchristianacademy.com/
DTSTAMP:20260425T024229Z
CATEGORIES:DCA Events
DESCRIPTION:<p>All of DCA is CLOSED for Resurrection Monday.</p>
DTSTART:20240401T000000Z
DTEND:20240401T235959Z
SUMMARY:Resurrection Monday - All of DCA CLOSED
URL:https://denbighchristianacademy.com/index.php/school-calendar/dca-event
 s/11-dca-events/1210-resurrection-monday-all-of-dca-closed
X-ALT-DESC;FMTTYPE=TEXT/HTML:<p>All of DCA is CLOSED for Resurrection Monda
 y.</p>
END:VEVENT
BEGIN:VEVENT
UID:20240402T060000UTC-157249MjA5@https://www.denbighchristianacademy.com/
DTSTAMP:20260425T024229Z
CATEGORIES:DCA Events
DESCRIPTION:<p>School for 4K and 5K is closed this week. Preschool and Chil
 dcare are still open and available.</p>
DTSTART:20240402T060000Z
DTEND:20240405T060000Z
SUMMARY:Spring Break for 4K and 5K. Preschool & Childcare are OPEN
URL:https://denbighchristianacademy.com/index.php/school-calendar/dca-event
 s/11-dca-events/1211-spring-break-for-4k-and-5k-preschool-daycare-are-open
X-ALT-DESC;FMTTYPE=TEXT/HTML:<p>School for 4K and 5K is closed this week. P
 reschool and Childcare are still open and available.</p>
END:VEVENT
END:VCALENDAR
