BEGIN:VCALENDAR
VERSION:2.0
PRODID:-//https://denbighchristianacademy.com//NONSGML kigkonsult.se iCalcr
 eator 2.29.29//
CALSCALE:GREGORIAN
METHOD:PUBLISH
UID:f196c71b-38f4-432a-9f9c-c33527ac418f
X-WR-CALNAME:JCal Pro Calendar
X-WR-CALDESC:Your online events calendar
X-WR-TIMEZONE:UTC
BEGIN:VTIMEZONE
TZID:UTC
END:VTIMEZONE
BEGIN:VEVENT
UID:20240425T091500UTC-8005SFRcOV@https://www.denbighchristianacademy.com/
DTSTAMP:20260425T024038Z
CATEGORIES:DCA Events
DESCRIPTION:<p>Grandparents are invited to a special Chapel at 9:15 in the 
 Sanctuary.&nbsp\;</p>
DTSTART:20240425T091500Z
DTEND:20240425T101500Z
SUMMARY:Grandparent's Day - 9:15 am in the Sanctuary
URL:https://denbighchristianacademy.com/index.php/school-calendar/dca-event
 s/11-dca-events/1216-grandparent-s-day-9-15-am-in-the-sanctuary
X-ALT-DESC;FMTTYPE=TEXT/HTML:<p>Grandparents are invited to a special Chape
 l at 9:15 in the Sanctuary.&nbsp\;</p>
END:VEVENT
END:VCALENDAR
