BEGIN:VCALENDAR
VERSION:2.0
PRODID:-//https://denbighchristianacademy.com//NONSGML kigkonsult.se iCalcr
 eator 2.29.29//
CALSCALE:GREGORIAN
METHOD:PUBLISH
UID:ada82aa9-ac94-4b70-bd42-a47aadafb84a
X-WR-CALNAME:JCal Pro Calendar
X-WR-CALDESC:Your online events calendar
X-WR-TIMEZONE:UTC
BEGIN:VTIMEZONE
TZID:UTC
END:VTIMEZONE
BEGIN:VEVENT
UID:20240927T130000UTC-5356laiVSr@https://www.denbighchristianacademy.com/
DTSTAMP:20260424T175747Z
CATEGORIES:DCA Events
DESCRIPTION:<p>The first interim period ends today.</p>
DTSTART:20240927T000000Z
DTEND:20240927T235959Z
SUMMARY:First Interim Period ends (4K-5K)
URL:https://denbighchristianacademy.com/index.php/school-calendar/dca-event
 s/11-dca-events/1537-first-interim-period-ends-4k-5k
X-ALT-DESC;FMTTYPE=TEXT/HTML:<p>The first interim period ends today.</p>
END:VEVENT
END:VCALENDAR
