BEGIN:VCALENDAR
VERSION:2.0
PRODID:-//https://denbighchristianacademy.com//NONSGML kigkonsult.se iCalcr
 eator 2.29.29//
CALSCALE:GREGORIAN
METHOD:PUBLISH
UID:0e87d382-0ff8-46f8-bc6d-32b3157fced3
X-WR-CALNAME:JCal Pro Calendar
X-WR-CALDESC:Your online events calendar
X-WR-TIMEZONE:UTC
BEGIN:VTIMEZONE
TZID:UTC
END:VTIMEZONE
BEGIN:VEVENT
UID:20241128T140000UTC-7659g5MZC1@https://www.denbighchristianacademy.com/
DTSTAMP:20260424T162901Z
CATEGORIES:DCA Events
DESCRIPTION:<p>All of DCA is CLOSED for the Thanksgiving holiday Thursday a
 nd Friday.</p>
DTSTART:20241128T060000Z
DTEND:20241129T180000Z
SUMMARY:Thanksgiving Holiday - All of DCA CLOSED
URL:https://denbighchristianacademy.com/index.php/school-calendar/dca-event
 s/11-dca-events/1548-thanksgiving-holiday-all-of-dca-closed
X-ALT-DESC;FMTTYPE=TEXT/HTML:<p>All of DCA is CLOSED for the Thanksgiving h
 oliday Thursday and Friday.</p>
END:VEVENT
END:VCALENDAR
