BEGIN:VCALENDAR
VERSION:2.0
PRODID:-//https://denbighchristianacademy.com//NONSGML kigkonsult.se iCalcr
 eator 2.29.29//
CALSCALE:GREGORIAN
METHOD:PUBLISH
UID:6d298316-0def-41f0-b735-22c27897c9cd
X-WR-CALNAME:JCal Pro Calendar
X-WR-CALDESC:Your online events calendar
X-WR-TIMEZONE:UTC
BEGIN:VTIMEZONE
TZID:UTC
END:VTIMEZONE
BEGIN:VEVENT
UID:20241206T140000UTC-0087w9j69o@https://www.denbighchristianacademy.com/
DTSTAMP:20260424T133009Z
CATEGORIES:DCA Events
DESCRIPTION:<p>Today ends the 2nd Interim Period for 4k and 5k.</p>
DTSTART:20241206T000000Z
DTEND:20241206T235959Z
SUMMARY:Second Interim Period ends (4k-5k)
URL:https://denbighchristianacademy.com/index.php/school-calendar/dca-event
 s/11-dca-events/1549-second-interim-period-ends-4k-5k
X-ALT-DESC;FMTTYPE=TEXT/HTML:<p>Today ends the 2nd Interim Period for 4k an
 d 5k.</p>
END:VEVENT
END:VCALENDAR
