BEGIN:VCALENDAR
VERSION:2.0
PRODID:-//https://denbighchristianacademy.com//NONSGML kigkonsult.se iCalcr
 eator 2.29.29//
CALSCALE:GREGORIAN
METHOD:PUBLISH
UID:209449b9-b4da-4e7e-b2cf-1ddc514dc6db
X-WR-CALNAME:JCal Pro Calendar
X-WR-CALDESC:Your online events calendar
X-WR-TIMEZONE:UTC
BEGIN:VTIMEZONE
TZID:UTC
END:VTIMEZONE
BEGIN:VEVENT
UID:20250117T140000UTC-9941FZdg07@https://www.denbighchristianacademy.com/
DTSTAMP:20260424T150501Z
CATEGORIES:DCA Events
DESCRIPTION:<p>The 2nd marking period ends today for 4k and 5k.</p>
DTSTART:20250117T000000Z
DTEND:20250117T235959Z
SUMMARY:Second Marking Period ends (4k-5k)
URL:https://denbighchristianacademy.com/index.php/school-calendar/dca-event
 s/11-dca-events/1560-second-marking-period-ends-4k-5k
X-ALT-DESC;FMTTYPE=TEXT/HTML:<p>The 2nd marking period ends today for 4k an
 d 5k.</p>
END:VEVENT
END:VCALENDAR
