BEGIN:VCALENDAR
VERSION:2.0
PRODID:-//https://denbighchristianacademy.com//NONSGML kigkonsult.se iCalcr
 eator 2.29.29//
CALSCALE:GREGORIAN
METHOD:PUBLISH
UID:2b33402f-8de8-48fc-a302-86f213a6f8eb
X-WR-CALNAME:JCal Pro Calendar
X-WR-CALDESC:Your online events calendar
X-WR-TIMEZONE:UTC
BEGIN:VTIMEZONE
TZID:UTC
END:VTIMEZONE
BEGIN:VEVENT
UID:20240407T060000UTC-559648gjgN@https://www.denbighchristianacademy.com/
DTSTAMP:20260424T154352Z
CATEGORIES:DCA Events
DESCRIPTION:<p>This week is Spring Break for 4k and 5\; therefore\;.school 
 is closed for 4k and 5k. Childcare is available if needed.</p>
DTSTART:20250407T060000Z
DTEND:20250411T180000Z
SUMMARY:Spring Break (4k-5k Closed) Daycare Open
URL:https://denbighchristianacademy.com/index.php/school-calendar/dca-event
 s/11-dca-events/1570-spring-break-4k-5k-closed-daycare-open
X-ALT-DESC;FMTTYPE=TEXT/HTML:<p>This week is Spring Break for 4k and 5\; th
 erefore\;.school is closed for 4k and 5k. Childcare is available if needed
 .</p>
END:VEVENT
END:VCALENDAR
