BEGIN:VCALENDAR
VERSION:2.0
PRODID:-//https://denbighchristianacademy.com//NONSGML kigkonsult.se iCalcr
 eator 2.29.29//
CALSCALE:GREGORIAN
METHOD:PUBLISH
UID:1c9e8195-24a3-4bdd-a3f5-a2a576f07309
X-WR-CALNAME:JCal Pro Calendar
X-WR-CALDESC:Your online events calendar
X-WR-TIMEZONE:UTC
BEGIN:VTIMEZONE
TZID:UTC
END:VTIMEZONE
BEGIN:VEVENT
UID:20250901T160000UTC-5602x5DDnj@https://www.denbighchristianacademy.com/
DTSTAMP:20260424T164724Z
CATEGORIES:DCA Events
DESCRIPTION:<p>All of DCA Closed in observance of Labor Day.</p>
DTSTART:20250901T000000Z
DTEND:20250901T235959Z
SUMMARY:Labor Day - All of DCA CLOSED
URL:https://denbighchristianacademy.com/index.php/school-calendar/dca-event
 s/11-dca-events/1773-labor-day-all-of-dca-closed
X-ALT-DESC;FMTTYPE=TEXT/HTML:<p>All of DCA Closed in observance of Labor Da
 y.</p>
END:VEVENT
END:VCALENDAR
