BEGIN:VCALENDAR
VERSION:2.0
PRODID:-//https://denbighchristianacademy.com//NONSGML kigkonsult.se iCalcr
 eator 2.29.29//
CALSCALE:GREGORIAN
METHOD:PUBLISH
UID:94787e0f-f1cc-4ef4-b06d-c0d8e8c47f38
X-WR-CALNAME:JCal Pro Calendar
X-WR-CALDESC:Your online events calendar
X-WR-TIMEZONE:UTC
BEGIN:VTIMEZONE
TZID:UTC
END:VTIMEZONE
BEGIN:VEVENT
UID:20251117T160000UTC-4687kOsvpT@https://www.denbighchristianacademy.com/
DTSTAMP:20260424T085216Z
CATEGORIES:DCA Events
DESCRIPTION:<p>We honor Mrs. Collins today as one of the original founders 
 of Denbigh Christian Academy.</p>
DTSTART:20251117T000000Z
DTEND:20251117T235959Z
SUMMARY:Founder's Day in Honor of Dorothy B. Collins
URL:https://denbighchristianacademy.com/index.php/school-calendar/dca-event
 s/11-dca-events/1785-founder-s-day-in-honor-of-dorothy-b-collins
X-ALT-DESC;FMTTYPE=TEXT/HTML:<p>We honor Mrs. Collins today as one of the o
 riginal founders of Denbigh Christian Academy.</p>
END:VEVENT
END:VCALENDAR
