BEGIN:VCALENDAR
VERSION:2.0
PRODID:-//https://denbighchristianacademy.com//NONSGML kigkonsult.se iCalcr
 eator 2.29.29//
CALSCALE:GREGORIAN
METHOD:PUBLISH
UID:333e8c6d-140c-442b-9a4a-673ccd00a5b3
X-WR-CALNAME:JCal Pro Calendar
X-WR-CALDESC:Your online events calendar
X-WR-TIMEZONE:UTC
BEGIN:VTIMEZONE
TZID:UTC
END:VTIMEZONE
BEGIN:VEVENT
UID:20251127T060000UTC-75728g0AfN@https://www.denbighchristianacademy.com/
DTSTAMP:20260424T085330Z
CATEGORIES:DCA Events
DESCRIPTION:<p>All of DCA is closed today and tomorrow in observance of Tha
 nksgiving.&nbsp\;</p>
DTSTART:20251127T060000Z
DTEND:20251128T180000Z
SUMMARY:Thanksgiving Holiday - All of DCA CLOSED
URL:https://denbighchristianacademy.com/index.php/school-calendar/dca-event
 s/11-dca-events/1786-thanksgiving-holiday-all-of-dca-closed
X-ALT-DESC;FMTTYPE=TEXT/HTML:<p>All of DCA is closed today and tomorrow in 
 observance of Thanksgiving.&nbsp\;</p>
END:VEVENT
END:VCALENDAR
