BEGIN:VCALENDAR
VERSION:2.0
PRODID:-//https://denbighchristianacademy.com//NONSGML kigkonsult.se iCalcr
 eator 2.29.29//
CALSCALE:GREGORIAN
METHOD:PUBLISH
UID:9c8caaa5-1bed-45a5-94c9-07ede8e2f368
X-WR-CALNAME:JCal Pro Calendar
X-WR-CALDESC:Your online events calendar
X-WR-TIMEZONE:UTC
BEGIN:VTIMEZONE
TZID:UTC
END:VTIMEZONE
BEGIN:VEVENT
UID:20251210T170000UTC-2126vvBV3u@https://www.denbighchristianacademy.com/
DTSTAMP:20260424T150621Z
CATEGORIES:DCA Events
DESCRIPTION:<p>The second interim reports go home today for 4K and 5K.</p>
DTSTART:20251210T000000Z
DTEND:20251210T235959Z
SUMMARY:2nd Interim Reports issued (4K & 5K)
URL:https://denbighchristianacademy.com/index.php/school-calendar/dca-event
 s/11-dca-events/1788-2nd-interim-reports-issued-4k-5k
X-ALT-DESC;FMTTYPE=TEXT/HTML:<p>The second interim reports go home today fo
 r 4K and 5K.</p>
END:VEVENT
BEGIN:VEVENT
UID:20251212T170000UTC-6731Hhmui4@https://www.denbighchristianacademy.com/
DTSTAMP:20260424T150621Z
CATEGORIES:DCA Events
DESCRIPTION:<p>Students can dress up in their red and green clothes today. 
 It can be silly clothes of dress up clothes.</p>
DTSTART:20251212T000000Z
DTEND:20251212T235959Z
SUMMARY:Red & Green Day
URL:https://denbighchristianacademy.com/index.php/school-calendar/dca-event
 s/11-dca-events/1789-red-green-day
X-ALT-DESC;FMTTYPE=TEXT/HTML:<p>Students can dress up in their red and gree
 n clothes today. It can be silly clothes of dress up clothes.</p>
END:VEVENT
END:VCALENDAR
