BEGIN:VCALENDAR
VERSION:2.0
PRODID:-//https://denbighchristianacademy.com//NONSGML kigkonsult.se iCalcr
 eator 2.29.29//
CALSCALE:GREGORIAN
METHOD:PUBLISH
UID:db5bf576-d200-474f-9c6e-d0eb2ca6461a
X-WR-CALNAME:JCal Pro Calendar
X-WR-CALDESC:Your online events calendar
X-WR-TIMEZONE:UTC
BEGIN:VTIMEZONE
TZID:UTC
END:VTIMEZONE
BEGIN:VEVENT
UID:20251218T183000UTC-373061uhbv@https://www.denbighchristianacademy.com/
DTSTAMP:20260424T163947Z
CATEGORIES:DCA Events
DESCRIPTION:<p>DCA's Christmas program will begin at 7:00 p.m. All students
  should report to the children's sanctuary at 6:30 p.m. to be signed in wi
 th their teacher.</p>\n<p>After the program\, all children can be picked u
 p in the children's sanctuary and be signed out with their teacher.</p>
DTSTART:20251218T183000Z
DTEND:20251218T203000Z
SUMMARY:Christmas Program 7:00 p.m.
URL:https://denbighchristianacademy.com/index.php/school-calendar/dca-event
 s/11-dca-events/1790-christmas-program-7-00-p-m
X-ALT-DESC;FMTTYPE=TEXT/HTML:<p>DCA's Christmas program will begin at 7:00 
 p.m. All students should report to the children's sanctuary at 6:30 p.m. t
 o be signed in with their teacher.</p>\n<p>After the program\, all childre
 n can be picked up in the children's sanctuary and be signed out with thei
 r teacher.</p>
END:VEVENT
END:VCALENDAR
