BEGIN:VCALENDAR
VERSION:2.0
PRODID:-//https://denbighchristianacademy.com//NONSGML kigkonsult.se iCalcr
 eator 2.29.29//
CALSCALE:GREGORIAN
METHOD:PUBLISH
UID:9b3f93f7-6732-4f1c-aa84-d0670dce1cbf
X-WR-CALNAME:JCal Pro Calendar
X-WR-CALDESC:Your online events calendar
X-WR-TIMEZONE:UTC
BEGIN:VTIMEZONE
TZID:UTC
END:VTIMEZONE
BEGIN:VEVENT
UID:20260119T190000UTC-4765ctUSCz@https://www.denbighchristianacademy.com/
DTSTAMP:20260424T164724Z
CATEGORIES:DCA Events
DESCRIPTION:<p>All of DCA is closed in observance of Martin Luther King Day
 .</p>
DTSTART:20260119T000000Z
DTEND:20260119T235959Z
SUMMARY:Martin Luther King Day - All of DCA CLOSED
URL:https://denbighchristianacademy.com/index.php/school-calendar/dca-event
 s/11-dca-events/1793-martin-luther-king-day-all-of-dca-closed
X-ALT-DESC;FMTTYPE=TEXT/HTML:<p>All of DCA is closed in observance of Marti
 n Luther King Day.</p>
END:VEVENT
BEGIN:VEVENT
UID:20260123T190000UTC-0471aLrRI0@https://www.denbighchristianacademy.com/
DTSTAMP:20260424T164724Z
CATEGORIES:DCA Events
DESCRIPTION:<p>The second markig period ends today for 4K and 5K.</p>
DTSTART:20260123T000000Z
DTEND:20260123T235959Z
SUMMARY:2nd Marking Period ends (4K-5K)
URL:https://denbighchristianacademy.com/index.php/school-calendar/dca-event
 s/11-dca-events/1794-2nd-marking-period-end-4k-5k
X-ALT-DESC;FMTTYPE=TEXT/HTML:<p>The second markig period ends today for 4K 
 and 5K.</p>
END:VEVENT
BEGIN:VEVENT
UID:20260123T190000UTC-4108UujGzD@https://www.denbighchristianacademy.com/
DTSTAMP:20260424T164724Z
CATEGORIES:DCA Events
DESCRIPTION:<p>Students can wear their sports items representing teams or s
 ports they like. T-shirts and other clothing.</p>
DTSTART:20260123T000000Z
DTEND:20260123T235959Z
SUMMARY:Sport Day
URL:https://denbighchristianacademy.com/index.php/school-calendar/dca-event
 s/11-dca-events/1795-sport-day
X-ALT-DESC;FMTTYPE=TEXT/HTML:<p>Students can wear their sports items repres
 enting teams or sports they like. T-shirts and other clothing.</p>
END:VEVENT
END:VCALENDAR
