BEGIN:VCALENDAR
VERSION:2.0
PRODID:-//https://denbighchristianacademy.com//NONSGML kigkonsult.se iCalcr
 eator 2.29.29//
CALSCALE:GREGORIAN
METHOD:PUBLISH
UID:0f57f062-ba8d-487a-930e-0cb0028a7855
X-WR-CALNAME:JCal Pro Calendar
X-WR-CALDESC:Your online events calendar
X-WR-TIMEZONE:UTC
BEGIN:VTIMEZONE
TZID:UTC
END:VTIMEZONE
BEGIN:VEVENT
UID:20191002T170000UTC-7066gR40Ke@http://dca.37west.com/
DTSTAMP:20260426T001236Z
CATEGORIES:DCA Events
DTSTART:20191002T000000Z
DTEND:20191002T235959Z
SUMMARY:First Interim period ends (4K-5K)
URL:https://denbighchristianacademy.com/index.php/school-calendar/dca-event
 s/11-dca-events/7-first-interim-period-ends-4k-5k
END:VEVENT
BEGIN:VEVENT
UID:20191009T170000UTC-3448isdWzS@http://dca.37west.com/
DTSTAMP:20260426T001236Z
CATEGORIES:DCA Events
DTSTART:20191009T000000Z
DTEND:20191009T235959Z
SUMMARY:First Interim Reports issued (4K-5K)
URL:https://denbighchristianacademy.com/index.php/school-calendar/dca-event
 s/11-dca-events/8-first-interim-reports-issued-4k-5k
END:VEVENT
BEGIN:VEVENT
UID:20191011T090000UTC-5634p8wzfV@http://www.denbighchristianacademy.com/
DTSTAMP:20260426T001236Z
CATEGORIES:DCA Events
DESCRIPTION:<p>3 Year Preschool field trip to&nbsp\;<br />Belmont Pumpkin F
 arm<br />155 Belmont Lane<br />Matthews\, VA 23128</p>\n<p>Leave:&nbsp\; 9
 :30 am<br />Return: 1:30 pm</p>
DTSTART:20191011T090000Z
DTEND:20191011T133000Z
SUMMARY:3 Year Field Trip - Belmont Pumpkin Farm
URL:https://denbighchristianacademy.com/index.php/school-calendar/dca-event
 s/11-dca-events/92-3-year-field-trip-belmont-pumpkin-farm
X-ALT-DESC;FMTTYPE=TEXT/HTML:<p>3 Year Preschool field trip to&nbsp\;<br />
 Belmont Pumpkin Farm<br />155 Belmont Lane<br />Matthews\, VA 23128</p>\n<
 p>Leave:&nbsp\; 9:30 am<br />Return: 1:30 pm</p>
END:VEVENT
BEGIN:VEVENT
UID:20191015T091500UTC-65033SjJfP@http://www.denbighchristianacademy.com/
DTSTAMP:20260426T001236Z
CATEGORIES:DCA Events
DESCRIPTION:<p>4K &amp\; 5K field trip to&nbsp\;<br />Belmont Pumpkin Farm<
 br />155 Belmont Lane<br />Matthews\, VA 23128</p>\n<p>Leave:&nbsp\; 9:15 
 am<br />Return: 1:30 pm</p>
DTSTART:20191015T091500Z
DTEND:20191015T133000Z
SUMMARY:4K & 5K Field Trip - Belmont Pumpkin Farm
URL:https://denbighchristianacademy.com/index.php/school-calendar/dca-event
 s/11-dca-events/93-4k-5k-field-trip-belmont-pumpkin-farm
X-ALT-DESC;FMTTYPE=TEXT/HTML:<p>4K &amp\; 5K field trip to&nbsp\;<br />Belm
 ont Pumpkin Farm<br />155 Belmont Lane<br />Matthews\, VA 23128</p>\n<p>Le
 ave:&nbsp\; 9:15 am<br />Return: 1:30 pm</p>
END:VEVENT
BEGIN:VEVENT
UID:20191025T170000UTC-7622MldwZD@http://dca.37west.com/
DTSTAMP:20260426T001236Z
CATEGORIES:DCA Events
DTSTART:20191025T000000Z
DTEND:20191025T235959Z
SUMMARY:Twin Day
URL:https://denbighchristianacademy.com/index.php/school-calendar/dca-event
 s/11-dca-events/9-twin-day
END:VEVENT
BEGIN:VEVENT
UID:20191029T083000UTC-4586WPHJGU@http://dca.37west.com/
DTSTAMP:20260426T001236Z
CATEGORIES:DCA Events
DTSTART:20191029T000000Z
DTEND:20191029T235959Z
SUMMARY:Preschool Individual Student Photos
URL:https://denbighchristianacademy.com/index.php/school-calendar/dca-event
 s/11-dca-events/10-cancelled-preschool-individual-student-photos
END:VEVENT
BEGIN:VEVENT
UID:20191030T083000UTC-0605wHc1Dd@http://dca.37west.com/
DTSTAMP:20260426T001236Z
CATEGORIES:DCA Events
DTSTART:20191030T000000Z
DTEND:20191030T235959Z
SUMMARY:4K & 5K Individual Student Photos\, 4K & 5K Individual Student Phot
 os
URL:https://denbighchristianacademy.com/index.php/school-calendar/dca-event
 s/11-dca-events/11-4k-5k-individual-student-photos-4k-5k-individual-studen
 t-photos
END:VEVENT
BEGIN:VEVENT
UID:20191031T180000UTC-3167k7a086@http://www.denbighchristianacademy.com/
DTSTAMP:20260426T001236Z
CATEGORIES:DCA Events
DESCRIPTION:Fall Fest\n6 pm - 9 pm on campus\nLots of fun and free\nfood fo
 r all!
DTSTART:20191031T180000Z
DTEND:20191031T210000Z
SUMMARY:Fall Fest
URL:https://denbighchristianacademy.com/index.php/school-calendar/dca-event
 s/11-dca-events/75-thursday
X-ALT-DESC;FMTTYPE=TEXT/HTML:Fall Fest\n6 pm - 9 pm on campus\nLots of fun 
 and free\nfood for all!
END:VEVENT
END:VCALENDAR
