BEGIN:VCALENDAR
VERSION:2.0
PRODID:-//https://denbighchristianacademy.com//NONSGML kigkonsult.se iCalcr
 eator 2.29.29//
CALSCALE:GREGORIAN
METHOD:PUBLISH
UID:9e495516-1047-4897-bbbc-6af4ee02e669
X-WR-CALNAME:JCal Pro Calendar
X-WR-CALDESC:Your online events calendar
X-WR-TIMEZONE:UTC
BEGIN:VTIMEZONE
TZID:UTC
END:VTIMEZONE
BEGIN:VEVENT
UID:20200907T180000UTC-5045uLMK7C@http://www.denbighchristianacademy.com/
DTSTAMP:20260425T024013Z
CATEGORIES:DCA Events
DESCRIPTION:<p>DCA Closed for Labor Day.</p>
DTSTART:20200907T000000Z
DTEND:20200907T235959Z
SUMMARY:Labor Day - DCA Closed
URL:https://denbighchristianacademy.com/index.php/school-calendar/dca-event
 s/11-dca-events/251-labor-day-dca-closed
X-ALT-DESC;FMTTYPE=TEXT/HTML:<p>DCA Closed for Labor Day.</p>
END:VEVENT
BEGIN:VEVENT
UID:20200908T180000UTC-5482KGSa2R@http://www.denbighchristianacademy.com/
DTSTAMP:20260425T024013Z
CATEGORIES:DCA Events
DESCRIPTION:<p>First Day of School. All students report.</p>
DTSTART:20200908T000000Z
DTEND:20200908T235959Z
SUMMARY:All Students Report for First day of School
URL:https://denbighchristianacademy.com/index.php/school-calendar/dca-event
 s/11-dca-events/252-all-students-report-for-first-day-of-school
X-ALT-DESC;FMTTYPE=TEXT/HTML:<p>First Day of School. All students report.</
 p>
END:VEVENT
BEGIN:VEVENT
UID:20200925T180000UTC-7790C0cPZi@http://www.denbighchristianacademy.com/
DTSTAMP:20260425T024013Z
CATEGORIES:DCA Events
DESCRIPTION:<p>Crazy Hat Day.&nbsp\;<br />Students can wear funny hats.</p>
DTSTART:20200925T000000Z
DTEND:20200925T235959Z
SUMMARY:Crazy Hat Day
URL:https://denbighchristianacademy.com/index.php/school-calendar/dca-event
 s/11-dca-events/253-crazy-hat-day
X-ALT-DESC;FMTTYPE=TEXT/HTML:<p>Crazy Hat Day.&nbsp\;<br />Students can wea
 r funny hats.</p>
END:VEVENT
END:VCALENDAR
