BEGIN:VCALENDAR
VERSION:2.0
PRODID:-//https://denbighchristianacademy.com//NONSGML kigkonsult.se iCalcr
 eator 2.29.29//
CALSCALE:GREGORIAN
METHOD:PUBLISH
UID:3a6274bf-3e56-4f60-8d76-faffc700ac4b
X-WR-CALNAME:JCal Pro Calendar
X-WR-CALDESC:Your online events calendar
X-WR-TIMEZONE:UTC
BEGIN:VTIMEZONE
TZID:UTC
END:VTIMEZONE
BEGIN:VEVENT
UID:20220603T060000UTC-1331KN98uX@http://www.denbighchristianacademy.com/
DTSTAMP:20260426T004858Z
CATEGORIES:DCA Events
DESCRIPTION:<p>Summer Fun Day. Info to be sent home.</p>
DTSTART:20220603T000000Z
DTEND:20220603T235959Z
SUMMARY:Summer Fun Day
URL:https://denbighchristianacademy.com/index.php/school-calendar/dca-event
 s/11-dca-events/755-summer-fun-day
X-ALT-DESC;FMTTYPE=TEXT/HTML:<p>Summer Fun Day. Info to be sent home.</p>
END:VEVENT
BEGIN:VEVENT
UID:20220610T060000UTC-5422vwwpID@http://www.denbighchristianacademy.com/
DTSTAMP:20260426T004858Z
CATEGORIES:DCA Events
DESCRIPTION:<p>Today is the last regularly scheduled school day for 4K and 
 5K. Child Care will still be available M-F.</p>
DTSTART:20220610T000000Z
DTEND:20220610T235959Z
SUMMARY:Last School Day for 4K & 5K
URL:https://denbighchristianacademy.com/index.php/school-calendar/dca-event
 s/11-dca-events/758-last-school-day-for-4k-5k
X-ALT-DESC;FMTTYPE=TEXT/HTML:<p>Today is the last regularly scheduled schoo
 l day for 4K and 5K. Child Care will still be available M-F.</p>
END:VEVENT
BEGIN:VEVENT
UID:20220610T083000UTC-3669CuTBdA@http://www.denbighchristianacademy.com/
DTSTAMP:20260426T004858Z
CATEGORIES:DCA Events
DESCRIPTION:<p>Graduation for 5K will begin at 8:30 a.m. in the sanctuary.<
 /p>
DTSTART:20220610T083000Z
DTEND:20220610T093000Z
SUMMARY:5K Graduation
URL:https://denbighchristianacademy.com/index.php/school-calendar/dca-event
 s/11-dca-events/756-5k-graduation
X-ALT-DESC;FMTTYPE=TEXT/HTML:<p>Graduation for 5K will begin at 8:30 a.m. i
 n the sanctuary.</p>
END:VEVENT
BEGIN:VEVENT
UID:20220610T100000UTC-0908SC18bG@http://www.denbighchristianacademy.com/
DTSTAMP:20260426T004858Z
CATEGORIES:DCA Events
DESCRIPTION:<p>The 4K Awards program will begin at 10:00 a.m. in the sanctu
 ary.</p>
DTSTART:20220610T100000Z
DTEND:20220610T110000Z
SUMMARY:4K Awards Program
URL:https://denbighchristianacademy.com/index.php/school-calendar/dca-event
 s/11-dca-events/757-4k-awards-program
X-ALT-DESC;FMTTYPE=TEXT/HTML:<p>The 4K Awards program will begin at 10:00 a
 .m. in the sanctuary.</p>
END:VEVENT
END:VCALENDAR
