BEGIN:VCALENDAR
VERSION:2.0
PRODID:-//https://denbighchristianacademy.com//NONSGML kigkonsult.se iCalcr
 eator 2.29.29//
CALSCALE:GREGORIAN
METHOD:PUBLISH
UID:8df3af18-f390-4ab9-8981-e2e34bd3bb57
X-WR-CALNAME:JCal Pro Calendar
X-WR-CALDESC:Your online events calendar
X-WR-TIMEZONE:UTC
BEGIN:VTIMEZONE
TZID:UTC
END:VTIMEZONE
BEGIN:VEVENT
UID:20220822T190000UTC-97600PjIzA@https://www.denbighchristianacademy.com/
DTSTAMP:20260426T033541Z
CATEGORIES:DCA Events
DESCRIPTION:<p>Back to School night will begin in the church sanctuary for 
 enrolled children at 7 p.m.</p>
DTSTART:20220822T190000Z
DTEND:20220822T203000Z
SUMMARY:Back to School Night
URL:https://denbighchristianacademy.com/index.php/school-calendar/dca-event
 s/11-dca-events/927-back-to-school-night
X-ALT-DESC;FMTTYPE=TEXT/HTML:<p>Back to School night will begin in the chur
 ch sanctuary for enrolled children at 7 p.m.</p>
END:VEVENT
BEGIN:VEVENT
UID:20220829T190000UTC-2084bUL6aE@https://www.denbighchristianacademy.com/
DTSTAMP:20260426T033541Z
CATEGORIES:DCA Events
DESCRIPTION:<p>School opens for all registered children.</p>
DTSTART:20220829T000000Z
DTEND:20220829T235959Z
SUMMARY:School Opens
URL:https://denbighchristianacademy.com/index.php/school-calendar/dca-event
 s/11-dca-events/928-school-opens
X-ALT-DESC;FMTTYPE=TEXT/HTML:<p>School opens for all registered children.</
 p>
END:VEVENT
END:VCALENDAR
