BEGIN:VCALENDAR
VERSION:2.0
PRODID:-//https://denbighchristianacademy.com//NONSGML kigkonsult.se iCalcr
 eator 2.29.29//
CALSCALE:GREGORIAN
METHOD:PUBLISH
UID:51678779-2b32-45c4-ad7a-9e0fda10fdf8
X-WR-CALNAME:JCal Pro Calendar
X-WR-CALDESC:Your online events calendar
X-WR-TIMEZONE:UTC
BEGIN:VTIMEZONE
TZID:UTC
END:VTIMEZONE
BEGIN:VEVENT
UID:20230403T060000UTC-55827X4WVi@https://www.denbighchristianacademy.com/
DTSTAMP:20260424T233820Z
CATEGORIES:DCA Events
DESCRIPTION:<p>4K and 5K classes are on spring break this week. Preschool a
 nd childcare are still open.</p>
DTSTART:20230403T060000Z
DTEND:20230407T180000Z
SUMMARY:Spring Break for 4K and 5K. Preschool & Daycare are OPEN
URL:https://denbighchristianacademy.com/index.php/school-calendar/dca-event
 s/11-dca-events/979-spring-break-for-4k-and-5k-preschool-daycare-are-open
X-ALT-DESC;FMTTYPE=TEXT/HTML:<p>4K and 5K classes are on spring break this 
 week. Preschool and childcare are still open.</p>
END:VEVENT
BEGIN:VEVENT
UID:20230414T190000UTC-52848HNepA@https://www.denbighchristianacademy.com/
DTSTAMP:20260424T233820Z
CATEGORIES:DCA Events
DESCRIPTION:<p>DCA is CLOSED in observance of Resurrection Monday.</p>
DTSTART:20230410T000000Z
DTEND:20230410T235959Z
SUMMARY:Resurrection Monday - All of DCA CLOSED
URL:https://denbighchristianacademy.com/index.php/school-calendar/dca-event
 s/11-dca-events/980-resurrection-monday-all-of-dca-closed
X-ALT-DESC;FMTTYPE=TEXT/HTML:<p>DCA is CLOSED in observance of Resurrection
  Monday.</p>
END:VEVENT
BEGIN:VEVENT
UID:20230418T083000UTC-0504feunal@https://www.denbighchristianacademy.com/
DTSTAMP:20260424T233820Z
CATEGORIES:DCA Events
DESCRIPTION:<p>2 - 2 1/2 year olds will have spring pictures taken today be
 ginning at 8:30 a.m.</p>
DTSTART:20230418T083000Z
DTEND:20230418T093000Z
SUMMARY:Spring Pictures for 2 - 2 1/2 Year olds beginning at 8:30 a.m.
URL:https://denbighchristianacademy.com/index.php/school-calendar/dca-event
 s/11-dca-events/981-spring-pictures-for-2-2-1-2-year-olds-beginning-at-8-3
 0-a-m
X-ALT-DESC;FMTTYPE=TEXT/HTML:<p>2 - 2 1/2 year olds will have spring pictur
 es taken today beginning at 8:30 a.m.</p>
END:VEVENT
BEGIN:VEVENT
UID:20230419T083000UTC-70592TKkSl@https://www.denbighchristianacademy.com/
DTSTAMP:20260424T233820Z
CATEGORIES:DCA Events
DESCRIPTION:<p>3 year olds will have their spring pictures taken today begi
 nning at 8:30 a.m.</p>
DTSTART:20230419T083000Z
DTEND:20230419T093000Z
SUMMARY:Spring Pictures for 3 Year olds beginning at 8:30 a.m.
URL:https://denbighchristianacademy.com/index.php/school-calendar/dca-event
 s/11-dca-events/982-spring-pictures-for-3-year-olds-beginning-at-8-30-a-m
X-ALT-DESC;FMTTYPE=TEXT/HTML:<p>3 year olds will have their spring pictures
  taken today beginning at 8:30 a.m.</p>
END:VEVENT
BEGIN:VEVENT
UID:20230420T083000UTC-5004w28gGu@https://www.denbighchristianacademy.com/
DTSTAMP:20260424T233820Z
CATEGORIES:DCA Events
DESCRIPTION:<p>Spring pictures will be taken for 4 and 5K today along with 
 cap and gown pictures for 5K.</p>
DTSTART:20230420T083000Z
DTEND:20230420T093000Z
SUMMARY:Spring Pictures for 4K and 5K(cap & gown also for 5K) begins at 8:3
 0 a.m.
URL:https://denbighchristianacademy.com/index.php/school-calendar/dca-event
 s/11-dca-events/983-spring-pictures-for-4k-and-5k-cap-gown-also-for-5k-beg
 ins-at-8-30-a-m
X-ALT-DESC;FMTTYPE=TEXT/HTML:<p>Spring pictures will be taken for 4 and 5K 
 today along with cap and gown pictures for 5K.</p>
END:VEVENT
BEGIN:VEVENT
UID:20230421T200000UTC-574557AWM8@https://www.denbighchristianacademy.com/
DTSTAMP:20260424T233820Z
CATEGORIES:DCA Events
DESCRIPTION:<p>Students can wear their pajamas to school today. (must be ap
 propriate)</p>
DTSTART:20230421T000000Z
DTEND:20230421T235959Z
SUMMARY:Pajama Day
URL:https://denbighchristianacademy.com/index.php/school-calendar/dca-event
 s/11-dca-events/984-pajama-day
X-ALT-DESC;FMTTYPE=TEXT/HTML:<p>Students can wear their pajamas to school t
 oday. (must be appropriate)</p>
END:VEVENT
BEGIN:VEVENT
UID:20230427T091500UTC-7720uHVFiU@https://www.denbighchristianacademy.com/
DTSTAMP:20260424T233820Z
CATEGORIES:DCA Events
DESCRIPTION:<p>Rescheduled to May 25.</p>
DTSTART:20230427T091500Z
DTEND:20230427T101500Z
SUMMARY:Grandparent's Day Rescheduled to May 25\, 2023
URL:https://denbighchristianacademy.com/index.php/school-calendar/dca-event
 s/11-dca-events/985-grandparent-s-day
X-ALT-DESC;FMTTYPE=TEXT/HTML:<p>Rescheduled to May 25.</p>
END:VEVENT
END:VCALENDAR
