BEGIN:VCALENDAR
VERSION:2.0
PRODID:-//https://denbighchristianacademy.com//NONSGML kigkonsult.se iCalcr
 eator 2.29.29//
CALSCALE:GREGORIAN
METHOD:PUBLISH
UID:ad85678c-a9dd-4fa2-827f-5642218f1d7e
X-WR-CALNAME:JCal Pro Calendar
X-WR-CALDESC:Your online events calendar
X-WR-TIMEZONE:UTC
BEGIN:VTIMEZONE
TZID:UTC
END:VTIMEZONE
BEGIN:VEVENT
UID:20230501T200000UTC-3383hC76az@https://www.denbighchristianacademy.com/
DTSTAMP:20260425T011317Z
CATEGORIES:DCA Events
DESCRIPTION:<p>We love to bless our teachers during this week. We will noti
 fy parents of plans for the week.</p>
DTSTART:20230501T200000Z
DTEND:20230505T180000Z
SUMMARY:National Teacher Appreciation Week
URL:https://denbighchristianacademy.com/index.php/school-calendar/dca-event
 s/11-dca-events/986-national-teacher-appreciation-week
X-ALT-DESC;FMTTYPE=TEXT/HTML:<p>We love to bless our teachers during this w
 eek. We will notify parents of plans for the week.</p>
END:VEVENT
BEGIN:VEVENT
UID:20230505T170000UTC-7460gWBPx0@https://www.denbighchristianacademy.com/
DTSTAMP:20260425T011317Z
CATEGORIES:DCA Events
DESCRIPTION:<p>The 4th interim period ends today for 4 and 5K. Reports will
  go home May 10. Please sign and return.</p>
DTSTART:20230505T000000Z
DTEND:20230505T235959Z
SUMMARY:Fourth Interim Period ends (4K - 5K)
URL:https://denbighchristianacademy.com/index.php/school-calendar/dca-event
 s/11-dca-events/987-fourth-interim-period-ends-4k-5k
X-ALT-DESC;FMTTYPE=TEXT/HTML:<p>The 4th interim period ends today for 4 and
  5K. Reports will go home May 10. Please sign and return.</p>
END:VEVENT
BEGIN:VEVENT
UID:20230510T170000UTC-70766Cfsi4@https://www.denbighchristianacademy.com/
DTSTAMP:20260425T011317Z
CATEGORIES:DCA Events
DESCRIPTION:<p>4th interim reports will go home today with 4 and 5K. Please
  sign and return.</p>
DTSTART:20230510T000000Z
DTEND:20230510T235959Z
SUMMARY:Fourth Interim Period issued (4K - 5K)
URL:https://denbighchristianacademy.com/index.php/school-calendar/dca-event
 s/11-dca-events/988-fourth-interim-period-issued-4k-5k
X-ALT-DESC;FMTTYPE=TEXT/HTML:<p>4th interim reports will go home today with
  4 and 5K. Please sign and return.</p>
END:VEVENT
BEGIN:VEVENT
UID:20230519T090000UTC-1711lkIDud@https://www.denbighchristianacademy.com/
DTSTAMP:20260425T011317Z
CATEGORIES:DCA Events
DESCRIPTION:<p>Spirit Day&nbsp\;</p>
DTSTART:20230519T000000Z
DTEND:20230519T235959Z
SUMMARY:Summer Fun Day
URL:https://denbighchristianacademy.com/index.php/school-calendar/dca-event
 s/11-dca-events/989-summer-fun-day
X-ALT-DESC;FMTTYPE=TEXT/HTML:<p>Spirit Day&nbsp\;</p>
END:VEVENT
BEGIN:VEVENT
UID:20230525T170000UTC-75199EcSbI@https://www.denbighchristianacademy.com/
DTSTAMP:20260425T011317Z
CATEGORIES:DCA Events
DESCRIPTION:<p>Grandparents will be invited to our special chapel and then 
 will go over to their grandchild's class and have a snack when they stop b
 y the gym.</p>
DTSTART:20230525T091500Z
DTEND:20230525T111500Z
SUMMARY:Grandparent's Day
URL:https://denbighchristianacademy.com/index.php/school-calendar/dca-event
 s/11-dca-events/990-grandparent-s-day
X-ALT-DESC;FMTTYPE=TEXT/HTML:<p>Grandparents will be invited to our special
  chapel and then will go over to their grandchild's class and have a snack
  when they stop by the gym.</p>
END:VEVENT
BEGIN:VEVENT
UID:20230529T170000UTC-9577hfV30e@https://www.denbighchristianacademy.com/
DTSTAMP:20260425T011317Z
CATEGORIES:DCA Events
DESCRIPTION:<p>All of DCA is CLOSED in observance of Memorial Day.</p>
DTSTART:20230529T000000Z
DTEND:20230529T235959Z
SUMMARY:Memorial Day - All of DCA CLOSED
URL:https://denbighchristianacademy.com/index.php/school-calendar/dca-event
 s/11-dca-events/991-memorial-day-all-of-dca-closed
X-ALT-DESC;FMTTYPE=TEXT/HTML:<p>All of DCA is CLOSED in observance of Memor
 ial Day.</p>
END:VEVENT
END:VCALENDAR
