BEGIN:VCALENDAR
VERSION:2.0
PRODID:-//https://denbighchristianacademy.com//NONSGML kigkonsult.se iCalcr
 eator 2.29.29//
CALSCALE:GREGORIAN
METHOD:PUBLISH
UID:ecf95787-be8e-408a-9407-e3b224eec527
X-WR-CALNAME:JCal Pro Calendar
X-WR-CALDESC:Your online events calendar
X-WR-TIMEZONE:UTC
BEGIN:VTIMEZONE
TZID:UTC
END:VTIMEZONE
BEGIN:VEVENT
UID:20240219T060000UTC-1102HD8XXt@https://www.denbighchristianacademy.com/
DTSTAMP:20260425T035313Z
CATEGORIES:DCA Events
DESCRIPTION:<p>All of DCA CLOSED for President's Day.</p>
DTSTART:20240219T000000Z
DTEND:20240219T235959Z
SUMMARY:President's Day - All of DCA CLOSED
URL:https://denbighchristianacademy.com/index.php/school-calendar/dca-event
 s/11-dca-events/1203-president-s-day-all-of-dca-closed
X-ALT-DESC;FMTTYPE=TEXT/HTML:<p>All of DCA CLOSED for President's Day.</p>
END:VEVENT
BEGIN:VEVENT
UID:20240223T060000UTC-3422Fo66ba@https://www.denbighchristianacademy.com/
DTSTAMP:20260425T035313Z
CATEGORIES:DCA Events
DESCRIPTION:<p>The Third Interim Period ends today for 4K and 5K.</p>
DTSTART:20240223T000000Z
DTEND:20240223T235959Z
SUMMARY:3rd Interim Period ends - (4K-5K)
URL:https://denbighchristianacademy.com/index.php/school-calendar/dca-event
 s/11-dca-events/1204-3rd-interim-period-ends-4k-5k
X-ALT-DESC;FMTTYPE=TEXT/HTML:<p>The Third Interim Period ends today for 4K 
 and 5K.</p>
END:VEVENT
BEGIN:VEVENT
UID:20240223T060000UTC-2304uDSD7u@https://www.denbighchristianacademy.com/
DTSTAMP:20260425T035313Z
CATEGORIES:DCA Events
DESCRIPTION:<p>Students and Staff can wear Community Helper related clothin
 g outfits. Nurse\, Fireman\, Vet.\, Teacher\, Police Officer\, etc.</p>
DTSTART:20240223T000000Z
DTEND:20240223T235959Z
SUMMARY:Community Helper Day
URL:https://denbighchristianacademy.com/index.php/school-calendar/dca-event
 s/11-dca-events/1205-community-helper-day
X-ALT-DESC;FMTTYPE=TEXT/HTML:<p>Students and Staff can wear Community Helpe
 r related clothing outfits. Nurse\, Fireman\, Vet.\, Teacher\, Police Offi
 cer\, etc.</p>
END:VEVENT
BEGIN:VEVENT
UID:20240228T060000UTC-6463X2reUF@https://www.denbighchristianacademy.com/
DTSTAMP:20260425T035313Z
CATEGORIES:DCA Events
DESCRIPTION:<p>Third Interim Period Reports will go home with 4K and 5K tod
 ay.</p>
DTSTART:20240228T000000Z
DTEND:20240228T235959Z
SUMMARY:3rd Interim Period Reports issued (4K-5K)
URL:https://denbighchristianacademy.com/index.php/school-calendar/dca-event
 s/11-dca-events/1206-3rd-interim-period-reports-issued-4k-5k
X-ALT-DESC;FMTTYPE=TEXT/HTML:<p>Third Interim Period Reports will go home w
 ith 4K and 5K today.</p>
END:VEVENT
END:VCALENDAR
