BEGIN:VCALENDAR
VERSION:2.0
PRODID:-//https://denbighchristianacademy.com//NONSGML kigkonsult.se iCalcr
 eator 2.29.29//
CALSCALE:GREGORIAN
METHOD:PUBLISH
UID:ce42f3b9-acb5-48c9-b686-599a0fcde47e
X-WR-CALNAME:JCal Pro Calendar
X-WR-CALDESC:Your online events calendar
X-WR-TIMEZONE:UTC
BEGIN:VTIMEZONE
TZID:UTC
END:VTIMEZONE
BEGIN:VEVENT
UID:20240503T060000UTC-1332lCEdAE@https://www.denbighchristianacademy.com/
DTSTAMP:20260424T233909Z
CATEGORIES:DCA Events
DESCRIPTION:<p>The Fourth Interim Period ends today for 4K and 5K.</p>
DTSTART:20240503T000000Z
DTEND:20240503T235959Z
SUMMARY:4th Interim Period ends (4K-5K)
URL:https://denbighchristianacademy.com/index.php/school-calendar/dca-event
 s/11-dca-events/1217-4th-interim-period-ends-4k-5k
X-ALT-DESC;FMTTYPE=TEXT/HTML:<p>The Fourth Interim Period ends today for 4K
  and 5K.</p>
END:VEVENT
BEGIN:VEVENT
UID:20240506T060000UTC-3677mNr2S5@https://www.denbighchristianacademy.com/
DTSTAMP:20260424T233909Z
CATEGORIES:DCA Events
DESCRIPTION:<p>This week we celebrate all of our teachers and staff for all
  of their hard work this year.</p>
DTSTART:20240506T060000Z
DTEND:20240510T180000Z
SUMMARY:National Teacher Appreciation Week
URL:https://denbighchristianacademy.com/index.php/school-calendar/dca-event
 s/11-dca-events/1218-national-teacher-appreciation-week
X-ALT-DESC;FMTTYPE=TEXT/HTML:<p>This week we celebrate all of our teachers 
 and staff for all of their hard work this year.</p>
END:VEVENT
BEGIN:VEVENT
UID:20240515T060000UTC-1432vZNigw@https://www.denbighchristianacademy.com/
DTSTAMP:20260424T233909Z
CATEGORIES:DCA Events
DESCRIPTION:<p>Fourth Interim Reports will go home today with 4K and 5K.</p
 >
DTSTART:20240515T000000Z
DTEND:20240515T235959Z
SUMMARY:4th Interim Reports issued (4K-5K)
URL:https://denbighchristianacademy.com/index.php/school-calendar/dca-event
 s/11-dca-events/1219-4th-interim-reports-issued-4k-5k
X-ALT-DESC;FMTTYPE=TEXT/HTML:<p>Fourth Interim Reports will go home today w
 ith 4K and 5K.</p>
END:VEVENT
BEGIN:VEVENT
UID:20240517T060000UTC-3343ptm4is@https://www.denbighchristianacademy.com/
DTSTAMP:20260424T233909Z
CATEGORIES:DCA Events
DESCRIPTION:<p>Classes will plan some fun summer activites for the day.</p>
DTSTART:20240517T000000Z
DTEND:20240517T235959Z
SUMMARY:Summer Fun Day (Spirit Day)
URL:https://denbighchristianacademy.com/index.php/school-calendar/dca-event
 s/11-dca-events/1220-summer-fun-day-spirit-day
X-ALT-DESC;FMTTYPE=TEXT/HTML:<p>Classes will plan some fun summer activites
  for the day.</p>
END:VEVENT
BEGIN:VEVENT
UID:20240527T060000UTC-3074TkZ6cr@https://www.denbighchristianacademy.com/
DTSTAMP:20260424T233909Z
CATEGORIES:DCA Events
DESCRIPTION:<p>All of DCA will be CLOSED for Memorial Day.</p>
DTSTART:20240527T000000Z
DTEND:20240527T235959Z
SUMMARY:Memorial Day - All of DCA CLOSED
URL:https://denbighchristianacademy.com/index.php/school-calendar/dca-event
 s/11-dca-events/1221-memorial-day-all-of-dca-closed
X-ALT-DESC;FMTTYPE=TEXT/HTML:<p>All of DCA will be CLOSED for Memorial Day.
 </p>
END:VEVENT
END:VCALENDAR
