BEGIN:VCALENDAR
VERSION:2.0
PRODID:-//https://denbighchristianacademy.com//NONSGML kigkonsult.se iCalcr
 eator 2.29.29//
CALSCALE:GREGORIAN
METHOD:PUBLISH
UID:209fbf0f-1b20-40e1-aa6f-790f03f5222c
X-WR-CALNAME:JCal Pro Calendar
X-WR-CALDESC:Your online events calendar
X-WR-TIMEZONE:UTC
BEGIN:VTIMEZONE
TZID:UTC
END:VTIMEZONE
BEGIN:VEVENT
UID:20241002T130000UTC-9784PpSMJ9@https://www.denbighchristianacademy.com/
DTSTAMP:20260424T162631Z
CATEGORIES:DCA Events
DESCRIPTION:<p>The first interim reports go home today for 4K and 5K.</p>
DTSTART:20241002T000000Z
DTEND:20241002T235959Z
SUMMARY:First Interim Reports issued (4K-5K)
URL:https://denbighchristianacademy.com/index.php/school-calendar/dca-event
 s/11-dca-events/1538-first-interim-reports-issued-4k-5k
X-ALT-DESC;FMTTYPE=TEXT/HTML:<p>The first interim reports go home today for
  4K and 5K.</p>
END:VEVENT
BEGIN:VEVENT
UID:20241018T130000UTC-81200d6UIu@https://www.denbighchristianacademy.com/
DTSTAMP:20260424T162631Z
CATEGORIES:DCA Events
DESCRIPTION:<p>It's a fun day to wear mismatched or playful socks.</p>
DTSTART:20241018T000000Z
DTEND:20241018T235959Z
SUMMARY:Crazy Sock Day
URL:https://denbighchristianacademy.com/index.php/school-calendar/dca-event
 s/11-dca-events/1539-crazy-sock-day
X-ALT-DESC;FMTTYPE=TEXT/HTML:<p>It's a fun day to wear mismatched or playfu
 l socks.</p>
END:VEVENT
BEGIN:VEVENT
UID:20241023T130000UTC-4496us5S5l@https://www.denbighchristianacademy.com/
DTSTAMP:20260424T162631Z
CATEGORIES:DCA Events
DESCRIPTION:<p>2 and 2 1/2 year olds will have their picture taken today be
 ginning at 8:30 a.m.</p>
DTSTART:20241023T083000Z
DTEND:20241023T103000Z
SUMMARY:Student Photos 2 - 2 1/2 year olds
URL:https://denbighchristianacademy.com/index.php/school-calendar/dca-event
 s/11-dca-events/1540-student-photos-2-2-1-2-year-olds
X-ALT-DESC;FMTTYPE=TEXT/HTML:<p>2 and 2 1/2 year olds will have their pictu
 re taken today beginning at 8:30 a.m.</p>
END:VEVENT
BEGIN:VEVENT
UID:20241024T083000UTC-8015FN6R5p@https://www.denbighchristianacademy.com/
DTSTAMP:20260424T162631Z
CATEGORIES:DCA Events
DESCRIPTION:<p>All 3 year old classes will get their photo taken today begi
 nning around 8:30 a.m.</p>
DTSTART:20241024T083000Z
DTEND:20241024T103000Z
SUMMARY:Student Photos 3 year olds
URL:https://denbighchristianacademy.com/index.php/school-calendar/dca-event
 s/11-dca-events/1541-student-photos-3-year-olds
X-ALT-DESC;FMTTYPE=TEXT/HTML:<p>All 3 year old classes will get their photo
  taken today beginning around 8:30 a.m.</p>
END:VEVENT
BEGIN:VEVENT
UID:20241025T083000UTC-5658L2nllB@https://www.denbighchristianacademy.com/
DTSTAMP:20260424T162631Z
CATEGORIES:DCA Events
DESCRIPTION:<p>All 4K and 5K classes will have their photos taken beginning
  at 8:30 a.m.</p>
DTSTART:20241025T083000Z
DTEND:20241025T103000Z
SUMMARY:Student Photos 4k - 5k
URL:https://denbighchristianacademy.com/index.php/school-calendar/dca-event
 s/11-dca-events/1542-student-photos-4k-5k
X-ALT-DESC;FMTTYPE=TEXT/HTML:<p>All 4K and 5K classes will have their photo
 s taken beginning at 8:30 a.m.</p>
END:VEVENT
BEGIN:VEVENT
UID:20241031T180000UTC-1744JufTds@https://www.denbighchristianacademy.com/
DTSTAMP:20260424T162631Z
CATEGORIES:DCA Events
DESCRIPTION:<p>Fall Fest will be 6 - 9 p.m. Games\, prizes\, free food and 
 candy.</p>
DTSTART:20241031T180000Z
DTEND:20241031T190000Z
SUMMARY:Fall Fest 6 - 9 p.m.
URL:https://denbighchristianacademy.com/index.php/school-calendar/dca-event
 s/11-dca-events/1543-fall-fest-6-9-p-m
X-ALT-DESC;FMTTYPE=TEXT/HTML:<p>Fall Fest will be 6 - 9 p.m. Games\, prizes
 \, free food and candy.</p>
END:VEVENT
END:VCALENDAR
