BEGIN:VCALENDAR
VERSION:2.0
PRODID:-//https://denbighchristianacademy.com//NONSGML kigkonsult.se iCalcr
 eator 2.29.29//
CALSCALE:GREGORIAN
METHOD:PUBLISH
UID:8393971a-a743-4963-8ace-0059acf2aaa1
X-WR-CALNAME:JCal Pro Calendar
X-WR-CALDESC:Your online events calendar
X-WR-TIMEZONE:UTC
BEGIN:VTIMEZONE
TZID:UTC
END:VTIMEZONE
BEGIN:VEVENT
UID:20250704T160000UTC-7658rD6jPe@https://www.denbighchristianacademy.com/
DTSTAMP:20260424T164520Z
CATEGORIES:DCA Events
DESCRIPTION:<p>DCA Closed in observation of July 4th.</p>
DTSTART:20250704T000000Z
DTEND:20250704T235959Z
SUMMARY:July 4th - All of DCA Closed
URL:https://denbighchristianacademy.com/index.php/school-calendar/dca-event
 s/11-dca-events/1771-july-4th-all-of-dca-closed
X-ALT-DESC;FMTTYPE=TEXT/HTML:<p>DCA Closed in observation of July 4th.</p>
END:VEVENT
END:VCALENDAR
