BEGIN:VCALENDAR
VERSION:2.0
PRODID:-//https://denbighchristianacademy.com//NONSGML kigkonsult.se iCalcr
 eator 2.29.29//
CALSCALE:GREGORIAN
METHOD:PUBLISH
UID:25971ac9-6061-4362-82a7-4989d08f3c46
X-WR-CALNAME:JCal Pro Calendar
X-WR-CALDESC:Your online events calendar
X-WR-TIMEZONE:UTC
BEGIN:VTIMEZONE
TZID:UTC
END:VTIMEZONE
BEGIN:VEVENT
UID:20251001T160000UTC-51211Rf3w1@https://www.denbighchristianacademy.com/
DTSTAMP:20260424T100747Z
CATEGORIES:DCA Events
DESCRIPTION:<p>The first interim reports go home today for 4K and 5K. Pleas
 e sign and return them tomorrow.</p>
DTSTART:20251001T000000Z
DTEND:20251001T235959Z
SUMMARY:First Interim Reports issued (4K-5K)
URL:https://denbighchristianacademy.com/index.php/school-calendar/dca-event
 s/11-dca-events/1776-first-interim-reports-issued-4k-5k
X-ALT-DESC;FMTTYPE=TEXT/HTML:<p>The first interim reports go home today for
  4K and 5K. Please sign and return them tomorrow.</p>
END:VEVENT
BEGIN:VEVENT
UID:20251017T160000UTC-0775RAdLF4@https://www.denbighchristianacademy.com/
DTSTAMP:20260424T100747Z
CATEGORIES:DCA Events
DESCRIPTION:<p>Students can wear their craziest\, funniest\, mismatched soc
 ks.</p>
DTSTART:20251017T000000Z
DTEND:20251017T235959Z
SUMMARY:Crazy Sock Day
URL:https://denbighchristianacademy.com/index.php/school-calendar/dca-event
 s/11-dca-events/1777-crazy-sock-day
X-ALT-DESC;FMTTYPE=TEXT/HTML:<p>Students can wear their craziest\, funniest
 \, mismatched socks.</p>
END:VEVENT
BEGIN:VEVENT
UID:20251028T160000UTC-2715eN6GiB@https://www.denbighchristianacademy.com/
DTSTAMP:20260424T100747Z
CATEGORIES:DCA Events
DESCRIPTION:<p>The 2 and 2 1/2 year classes will have their individual phot
 os taken today beginning about 8:30 a.m.</p>
DTSTART:20251028T000000Z
DTEND:20251028T235959Z
SUMMARY:2 & 2 1/2 Yr. Student Photos
URL:https://denbighchristianacademy.com/index.php/school-calendar/dca-event
 s/11-dca-events/1778-2-2-1-2-yr-student-photos
X-ALT-DESC;FMTTYPE=TEXT/HTML:<p>The 2 and 2 1/2 year classes will have thei
 r individual photos taken today beginning about 8:30 a.m.</p>
END:VEVENT
BEGIN:VEVENT
UID:20251029T160000UTC-8880N8PoBb@https://www.denbighchristianacademy.com/
DTSTAMP:20260424T100747Z
CATEGORIES:DCA Events
DESCRIPTION:<p>The 3 year classes will have their individual photos taken t
 oday beginning around 8:30.</p>
DTSTART:20251029T000000Z
DTEND:20251029T235959Z
SUMMARY:3 Year Student Photos
URL:https://denbighchristianacademy.com/index.php/school-calendar/dca-event
 s/11-dca-events/1779-3-year-classes-student-photos
X-ALT-DESC;FMTTYPE=TEXT/HTML:<p>The 3 year classes will have their individu
 al photos taken today beginning around 8:30.</p>
END:VEVENT
BEGIN:VEVENT
UID:20251030T160000UTC-5937nuFk13@https://www.denbighchristianacademy.com/
DTSTAMP:20260424T100747Z
CATEGORIES:DCA Events
DESCRIPTION:<p>The 4K and 5K classes will have their individual student pho
 tos taken beginning about 8:30.</p>
DTSTART:20251030T000000Z
DTEND:20251030T235959Z
SUMMARY:4K & 5K Student Photos
URL:https://denbighchristianacademy.com/index.php/school-calendar/dca-event
 s/11-dca-events/1780-4k-5k-student-photos
X-ALT-DESC;FMTTYPE=TEXT/HTML:<p>The 4K and 5K classes will have their indiv
 idual student photos taken beginning about 8:30.</p>
END:VEVENT
BEGIN:VEVENT
UID:20251031T160000UTC-0949LfVr4p@https://www.denbighchristianacademy.com/
DTSTAMP:20260424T100747Z
CATEGORIES:DCA Events
DESCRIPTION:<p>The first marking period ends today for 4K and 5K.</p>
DTSTART:20251031T000000Z
DTEND:20251031T235959Z
SUMMARY:First Marking Period ends (4k-5k)
URL:https://denbighchristianacademy.com/index.php/school-calendar/dca-event
 s/11-dca-events/1782-first-marking-period-ends-4k-5k
X-ALT-DESC;FMTTYPE=TEXT/HTML:<p>The first marking period ends today for 4K 
 and 5K.</p>
END:VEVENT
END:VCALENDAR
