BEGIN:VCALENDAR
VERSION:2.0
PRODID:-//https://denbighchristianacademy.com//NONSGML kigkonsult.se iCalcr
 eator 2.29.29//
CALSCALE:GREGORIAN
METHOD:PUBLISH
UID:8f2e5253-a219-4156-8f65-6602ea5482f1
X-WR-CALNAME:JCal Pro Calendar
X-WR-CALDESC:Your online events calendar
X-WR-TIMEZONE:UTC
BEGIN:VTIMEZONE
TZID:UTC
END:VTIMEZONE
BEGIN:VEVENT
UID:20260216T190000UTC-27653HsukK@https://www.denbighchristianacademy.com/
DTSTAMP:20260424T071005Z
CATEGORIES:DCA Events
DESCRIPTION:<p>All of DCA is closed in observance of President's Day.</p>
DTSTART:20260216T000000Z
DTEND:20260216T235959Z
SUMMARY:President's Day - All of DCA CLOSED
URL:https://denbighchristianacademy.com/index.php/school-calendar/dca-event
 s/11-dca-events/1798-president-s-day-all-of-dca-closed
X-ALT-DESC;FMTTYPE=TEXT/HTML:<p>All of DCA is closed in observance of Presi
 dent's Day.</p>
END:VEVENT
BEGIN:VEVENT
UID:20260220T190000UTC-3635APeKIg@https://www.denbighchristianacademy.com/
DTSTAMP:20260424T071005Z
CATEGORIES:DCA Events
DESCRIPTION:<p>Third interim period ends today for 4K and 5K.</p>
DTSTART:20260220T000000Z
DTEND:20260220T235959Z
SUMMARY:3rd Interim Period ends (4K-5K)
URL:https://denbighchristianacademy.com/index.php/school-calendar/dca-event
 s/11-dca-events/1799-3rd-interim-period-ends-4k-5k
X-ALT-DESC;FMTTYPE=TEXT/HTML:<p>Third interim period ends today for 4K and 
 5K.</p>
END:VEVENT
BEGIN:VEVENT
UID:20260220T190000UTC-0514fmIuA0@https://www.denbighchristianacademy.com/
DTSTAMP:20260424T071005Z
CATEGORIES:DCA Events
DESCRIPTION:<p>Today is Community Helper Day and students can wear items of
  clothing representing a community helper such as a fierman\, teacher\, do
 ctor\, police officer\, etc.</p>
DTSTART:20260220T000000Z
DTEND:20260220T235959Z
SUMMARY:Community Helper Day
URL:https://denbighchristianacademy.com/index.php/school-calendar/dca-event
 s/11-dca-events/1800-community-helper-day
X-ALT-DESC;FMTTYPE=TEXT/HTML:<p>Today is Community Helper Day and students 
 can wear items of clothing representing a community helper such as a fierm
 an\, teacher\, doctor\, police officer\, etc.</p>
END:VEVENT
BEGIN:VEVENT
UID:20260225T190000UTC-4958wCKSah@https://www.denbighchristianacademy.com/
DTSTAMP:20260424T071005Z
CATEGORIES:DCA Events
DESCRIPTION:<p>The third interim period reports go home today with 4K and 5
 K. Please sign and return tomorrow.</p>
DTSTART:20260225T000000Z
DTEND:20260225T235959Z
SUMMARY:3rd Interim Period Reports issued (4K & 5K)
URL:https://denbighchristianacademy.com/index.php/school-calendar/dca-event
 s/11-dca-events/1801-3rd-interim-period-reports-issued-4k-5k
X-ALT-DESC;FMTTYPE=TEXT/HTML:<p>The third interim period reports go home to
 day with 4K and 5K. Please sign and return tomorrow.</p>
END:VEVENT
END:VCALENDAR
