BEGIN:VCALENDAR
VERSION:2.0
PRODID:-//https://denbighchristianacademy.com//NONSGML kigkonsult.se iCalcr
 eator 2.29.29//
CALSCALE:GREGORIAN
METHOD:PUBLISH
UID:e55b0eb7-af74-4089-a5d3-30091011902d
X-WR-CALNAME:JCal Pro Calendar
X-WR-CALDESC:Your online events calendar
X-WR-TIMEZONE:UTC
BEGIN:VTIMEZONE
TZID:UTC
END:VTIMEZONE
BEGIN:VEVENT
UID:20230704T180000UTC-6598fAigHG@https://www.denbighchristianacademy.com/
DTSTAMP:20260424T203856Z
CATEGORIES:School Menu
DESCRIPTION:<p>All of DCA CLOSED</p>
DTSTART:20230704T000000Z
DTEND:20230704T235959Z
SUMMARY:Tuesday - CLOSED for 4th of July
URL:https://denbighchristianacademy.com/index.php/school-calendar/lunch-men
 u/10-school-menu/1236-tuesday-closed-for-4th-of-july
X-ALT-DESC;FMTTYPE=TEXT/HTML:<p>All of DCA CLOSED</p>
END:VEVENT
END:VCALENDAR
