BEGIN:VCALENDAR
VERSION:2.0
PRODID:-//https://denbighchristianacademy.com//NONSGML kigkonsult.se iCalcr
 eator 2.29.29//
CALSCALE:GREGORIAN
METHOD:PUBLISH
UID:d2911744-ec76-4fb2-beec-51465939f514
X-WR-CALNAME:JCal Pro Calendar
X-WR-CALDESC:Your online events calendar
X-WR-TIMEZONE:UTC
BEGIN:VTIMEZONE
TZID:UTC
END:VTIMEZONE
BEGIN:VEVENT
UID:20231122T150000UTC-3282RW4cil@https://www.denbighchristianacademy.com/
DTSTAMP:20260420T145913Z
CATEGORIES:School Menu
DESCRIPTION:<p><span style='text-decoration: underline\;'><strong>Breakfast
 </strong></span></p>\n<p>1 1/2 - 2 oz Turkey Bacon<br />1 1/2 - 2 oz Biscu
 its<br />1/4-1/2 cup Fruit Cocktail<br />1/4-1/2 cup Cereal (optional)<br 
 />6 oz. 1% Milk (8 oz for ages 6-12)</p>\n<p><br /><span style='text-decor
 ation: underline\;'><strong>AM Snack</strong></span></p>\n<p>1.5 oz WG Gra
 ham Crackers<br />4 oz 1% Milk (8 oz for ages 6-12)</p>\n<p><br /><span st
 yle='text-decoration: underline\;'><strong>Lunch</strong></span></p>\n<p>1
  1/2 - 2 oz Pizza<br />1/4-1/2 cup Broccoli<br />1/4 cup Fruit Cocktail<br
  />6 oz.1% Milk (ages 6-12 8 oz)</p>\n<p><br /><span style='text-decoratio
 n: underline\;'><strong>PM Snack</strong></span></p>\n<p>1 (.78 oz) Bar Ri
 ce Krispy Treat<br />4 oz 1% Milk (8 oz for ages 6-12)</p>
DTSTART:20231122T000000Z
DTEND:20231122T235959Z
SUMMARY:Wednesday
URL:https://denbighchristianacademy.com/index.php/school-calendar/lunch-men
 u/10-school-menu/1337-wednesday
X-ALT-DESC;FMTTYPE=TEXT/HTML:<p><span style='text-decoration: underline\;'>
 <strong>Breakfast</strong></span></p>\n<p>1 1/2 - 2 oz Turkey Bacon<br />1
  1/2 - 2 oz Biscuits<br />1/4-1/2 cup Fruit Cocktail<br />1/4-1/2 cup Cere
 al (optional)<br />6 oz. 1% Milk (8 oz for ages 6-12)</p>\n<p><br /><span 
 style='text-decoration: underline\;'><strong>AM Snack</strong></span></p>
 \n<p>1.5 oz WG Graham Crackers<br />4 oz 1% Milk (8 oz for ages 6-12)</p>
 \n<p><br /><span style='text-decoration: underline\;'><strong>Lunch</stron
 g></span></p>\n<p>1 1/2 - 2 oz Pizza<br />1/4-1/2 cup Broccoli<br />1/4 cu
 p Fruit Cocktail<br />6 oz.1% Milk (ages 6-12 8 oz)</p>\n<p><br /><span st
 yle='text-decoration: underline\;'><strong>PM Snack</strong></span></p>\n<
 p>1 (.78 oz) Bar Rice Krispy Treat<br />4 oz 1% Milk (8 oz for ages 6-12)<
 /p>
END:VEVENT
END:VCALENDAR
