BEGIN:VCALENDAR
VERSION:2.0
PRODID:-//https://denbighchristianacademy.com//NONSGML kigkonsult.se iCalcr
 eator 2.29.29//
CALSCALE:GREGORIAN
METHOD:PUBLISH
UID:8fe91152-d92e-4297-b27b-3f2d7abbc262
X-WR-CALNAME:JCal Pro Calendar
X-WR-CALDESC:Your online events calendar
X-WR-TIMEZONE:UTC
BEGIN:VTIMEZONE
TZID:UTC
END:VTIMEZONE
BEGIN:VEVENT
UID:20240110T200000UTC-092476PnVC@https://www.denbighchristianacademy.com/
DTSTAMP:20260424T154646Z
CATEGORIES:School Menu
DESCRIPTION:<p><span style='text-decoration: underline\;'><strong>Breakfast
 </strong></span></p>\n<p>1 1/2 oz Bagles w/Cream Cheese<br />1/4-1/2 cup F
 ruit Cocktail<br />1/4-1/2 cup Cereal (optional)<br />6 oz. 1% Milk (8 oz 
 for ages 6-12)</p>\n<p><br /><span style='text-decoration: underline\;'><s
 trong>AM Snack</strong></span></p>\n<p>1/4-1/2 cup WG Bug Bites Crackers<b
 r />4 oz 1% Milk (8 oz for ages 6-12)</p>\n<p><br /><span style='text-deco
 ration: underline\;'><strong>Lunch</strong></span></p>\n<p>1 1/2 - 2 oz Ch
 icken Tenders<br />WW Bread<br />1/4-1/2 cup Broccoli<br />1/4 cup Mixed F
 ruit<br />6 oz.1% Milk (ages 6-12 8 oz)</p>\n<p><br /><span style='text-de
 coration: underline\;'><strong>PM Snack</strong></span></p>\n<p>1/4-1/2 cu
 p Pretzels<br />4 oz 100% grape Juice (8 oz for ages 6-12)</p>
DTSTART:20240110T000000Z
DTEND:20240110T235959Z
SUMMARY:Wednesday
URL:https://denbighchristianacademy.com/index.php/school-calendar/lunch-men
 u/10-school-menu/1371-wednesday
X-ALT-DESC;FMTTYPE=TEXT/HTML:<p><span style='text-decoration: underline\;'>
 <strong>Breakfast</strong></span></p>\n<p>1 1/2 oz Bagles w/Cream Cheese<b
 r />1/4-1/2 cup Fruit Cocktail<br />1/4-1/2 cup Cereal (optional)<br />6 o
 z. 1% Milk (8 oz for ages 6-12)</p>\n<p><br /><span style='text-decoration
 : underline\;'><strong>AM Snack</strong></span></p>\n<p>1/4-1/2 cup WG Bug
  Bites Crackers<br />4 oz 1% Milk (8 oz for ages 6-12)</p>\n<p><br /><span
  style='text-decoration: underline\;'><strong>Lunch</strong></span></p>\n<
 p>1 1/2 - 2 oz Chicken Tenders<br />WW Bread<br />1/4-1/2 cup Broccoli<br 
 />1/4 cup Mixed Fruit<br />6 oz.1% Milk (ages 6-12 8 oz)</p>\n<p><br /><sp
 an style='text-decoration: underline\;'><strong>PM Snack</strong></span></
 p>\n<p>1/4-1/2 cup Pretzels<br />4 oz 100% grape Juice (8 oz for ages 6-12
 )</p>
END:VEVENT
END:VCALENDAR
