BEGIN:VCALENDAR
VERSION:2.0
PRODID:-//https://denbighchristianacademy.com//NONSGML kigkonsult.se iCalcr
 eator 2.29.29//
CALSCALE:GREGORIAN
METHOD:PUBLISH
UID:526a5470-ab2c-4b14-9f1e-c59870361626
X-WR-CALNAME:JCal Pro Calendar
X-WR-CALDESC:Your online events calendar
X-WR-TIMEZONE:UTC
BEGIN:VTIMEZONE
TZID:UTC
END:VTIMEZONE
BEGIN:VEVENT
UID:20240115T140000UTC-918488zevr@https://www.denbighchristianacademy.com/
DTSTAMP:20260424T172844Z
CATEGORIES:School Menu
DESCRIPTION:<p>DCA closed for Martin Luther King Day</p>
DTSTART:20240115T000000Z
DTEND:20240115T235959Z
SUMMARY:Monday - Closed for Martin Luther King Day
URL:https://denbighchristianacademy.com/index.php/school-calendar/lunch-men
 u/10-school-menu/1374-monday-closed-for-martin-luther-king-day
X-ALT-DESC;FMTTYPE=TEXT/HTML:<p>DCA closed for Martin Luther King Day</p>
END:VEVENT
END:VCALENDAR
