BEGIN:VCALENDAR
VERSION:2.0
PRODID:-//https://denbighchristianacademy.com//NONSGML kigkonsult.se iCalcr
 eator 2.29.29//
CALSCALE:GREGORIAN
METHOD:PUBLISH
UID:29e76183-2aab-4e4b-9a58-6fa9dd3e228e
X-WR-CALNAME:JCal Pro Calendar
X-WR-CALDESC:Your online events calendar
X-WR-TIMEZONE:UTC
BEGIN:VTIMEZONE
TZID:UTC
END:VTIMEZONE
BEGIN:VEVENT
UID:20240214T190000UTC-9352usF9Dr@https://www.denbighchristianacademy.com/
DTSTAMP:20260424T154637Z
CATEGORIES:School Menu
DESCRIPTION:<p><span style='text-decoration: underline\;'><strong>Breakfast
 </strong></span></p>\n<p>1 ½ oz (2) Pancakes<br />1/4-1/2 cup Peaches<br /
 >1/4-1/2 cup Cereal (optional)<br />6 oz. 1% Milk (8 oz for ages 6-12)</p>
 \n<p><br /><span style='text-decoration: underline\;'><strong>AM Snack</st
 rong></span></p>\n<p>1/4-1/2 cup Goldfish Crackers<br />4 oz Water (8 oz f
 or ages 6-12)</p>\n<p><br /><span style='text-decoration: underline\;'><st
 rong>Lunch</strong></span></p>\n<p>1 1/2 - 2 oz Chicken Nuggets<br />WW Ro
 ll<br />1/4-1/2 cup Mixed Vegetables<br />1/4 cup Jelled Fruit Cocktail<br
  />6 oz.1% Milk (ages 6-12 8 oz)</p>\n<p><br /><span style='text-decoratio
 n: underline\;'><strong>PM Snack</strong></span></p>\n<p>1.62 oz Asst. Fru
 it Snacks (2 pks)<br />4 oz 1% Milk (8 oz for ages 6-12)</p>
DTSTART:20240214T000000Z
DTEND:20240214T235959Z
SUMMARY:Wednesday
URL:https://denbighchristianacademy.com/index.php/school-calendar/lunch-men
 u/10-school-menu/1396-wednesday
X-ALT-DESC;FMTTYPE=TEXT/HTML:<p><span style='text-decoration: underline\;'>
 <strong>Breakfast</strong></span></p>\n<p>1 ½ oz (2) Pancakes<br />1/4-1/2
  cup Peaches<br />1/4-1/2 cup Cereal (optional)<br />6 oz. 1% Milk (8 oz f
 or ages 6-12)</p>\n<p><br /><span style='text-decoration: underline\;'><st
 rong>AM Snack</strong></span></p>\n<p>1/4-1/2 cup Goldfish Crackers<br />4
  oz Water (8 oz for ages 6-12)</p>\n<p><br /><span style='text-decoration:
  underline\;'><strong>Lunch</strong></span></p>\n<p>1 1/2 - 2 oz Chicken N
 uggets<br />WW Roll<br />1/4-1/2 cup Mixed Vegetables<br />1/4 cup Jelled 
 Fruit Cocktail<br />6 oz.1% Milk (ages 6-12 8 oz)</p>\n<p><br /><span styl
 e='text-decoration: underline\;'><strong>PM Snack</strong></span></p>\n<p>
 1.62 oz Asst. Fruit Snacks (2 pks)<br />4 oz 1% Milk (8 oz for ages 6-12)<
 /p>
END:VEVENT
END:VCALENDAR
