BEGIN:VCALENDAR
VERSION:2.0
PRODID:-//https://denbighchristianacademy.com//NONSGML kigkonsult.se iCalcr
 eator 2.29.29//
CALSCALE:GREGORIAN
METHOD:PUBLISH
UID:5afe63b2-d21e-493d-898d-8615208768e7
X-WR-CALNAME:JCal Pro Calendar
X-WR-CALDESC:Your online events calendar
X-WR-TIMEZONE:UTC
BEGIN:VTIMEZONE
TZID:UTC
END:VTIMEZONE
BEGIN:VEVENT
UID:20240321T140000UTC-7607v0KcgV@https://www.denbighchristianacademy.com/
DTSTAMP:20260424T201551Z
CATEGORIES:School Menu
DESCRIPTION:<p><span style='text-decoration: underline\;'><strong>Breakfast
 </strong></span></p>\n<p>1 1/2 - 2 oz Oatmeal<br />1/4-1/2 cup Peaches<br 
 />1/4-1/2 cup Cereal (optional)<br />6 oz. 1% Milk (8 oz for ages 6-12)</p
 >\n<p><br /><span style='text-decoration: underline\;'><strong>AM Snack</s
 trong></span></p>\n<p>1/4-1/2 cup WG Ritz Bits Crackers<br />4 oz Water (8
  oz for ages 6-12)</p>\n<p><br /><span style='text-decoration: underline\;
 '><strong>Lunch</strong></span></p>\n<p>1 1/2 - 2 oz Chicken BBQ<br />WW R
 oll<br />1/4-1/2 cup Green Beans<br />1/4-1/2 cup Cole Slaw<br />1/4 cup F
 ruit Cocktail<br />6 oz.1% Milk (ages 6-12 8 oz)</p>\n<p><br /><span style
 ='text-decoration: underline\;'><strong>PM Snack</strong></span></p>\n<p>1
  pack Lorne Doone Cookies 1.5 oz<br />4 oz 1% Milk (8 oz for ages 6-12)</p
 >
DTSTART:20240321T000000Z
DTEND:20240321T235959Z
SUMMARY:Thursday
URL:https://denbighchristianacademy.com/index.php/school-calendar/lunch-men
 u/10-school-menu/1422-thursday
X-ALT-DESC;FMTTYPE=TEXT/HTML:<p><span style='text-decoration: underline\;'>
 <strong>Breakfast</strong></span></p>\n<p>1 1/2 - 2 oz Oatmeal<br />1/4-1/
 2 cup Peaches<br />1/4-1/2 cup Cereal (optional)<br />6 oz. 1% Milk (8 oz 
 for ages 6-12)</p>\n<p><br /><span style='text-decoration: underline\;'><s
 trong>AM Snack</strong></span></p>\n<p>1/4-1/2 cup WG Ritz Bits Crackers<b
 r />4 oz Water (8 oz for ages 6-12)</p>\n<p><br /><span style='text-decora
 tion: underline\;'><strong>Lunch</strong></span></p>\n<p>1 1/2 - 2 oz Chic
 ken BBQ<br />WW Roll<br />1/4-1/2 cup Green Beans<br />1/4-1/2 cup Cole Sl
 aw<br />1/4 cup Fruit Cocktail<br />6 oz.1% Milk (ages 6-12 8 oz)</p>\n<p>
 <br /><span style='text-decoration: underline\;'><strong>PM Snack</strong>
 </span></p>\n<p>1 pack Lorne Doone Cookies 1.5 oz<br />4 oz 1% Milk (8 oz 
 for ages 6-12)</p>
END:VEVENT
END:VCALENDAR
