BEGIN:VCALENDAR
VERSION:2.0
PRODID:-//https://denbighchristianacademy.com//NONSGML kigkonsult.se iCalcr
 eator 2.29.29//
CALSCALE:GREGORIAN
METHOD:PUBLISH
UID:00873794-6902-4cb1-a713-df5724759c48
X-WR-CALNAME:JCal Pro Calendar
X-WR-CALDESC:Your online events calendar
X-WR-TIMEZONE:UTC
BEGIN:VTIMEZONE
TZID:UTC
END:VTIMEZONE
BEGIN:VEVENT
UID:20240412T130000UTC-4090n17mMA@https://www.denbighchristianacademy.com/
DTSTAMP:20260424T190708Z
CATEGORIES:School Menu
DESCRIPTION:<p><span style='text-decoration: underline\;'><strong>Breakfast
 </strong></span></p>\n<p>1 oz Turkey Sausage<br />WW Bread<br />1/4-1/2 cu
 p Mixed Fruit<br />1/4-1/2 cup Cereal (optional)<br />6 oz. 1% Milk (8 oz 
 for ages 6-12)</p>\n<p><br /><span style='text-decoration: underline\;'><s
 trong>AM Snack</strong></span></p>\n<p>1/4-1/2 cup WG Cheez-it Crackers<br
  />4 oz 1% Milk (8 oz for ages 6-12)</p>\n<p><br /><span style='text-decor
 ation: underline\;'><strong>Lunch</strong></span></p>\n<p>1 1/2 - 2 oz Ham
 burger/Cheeseburger<br />on WW Bun<br />1 oz bag Chips<br />1/4 cup Fruit 
 Cocktail<br />6 oz.1% Milk (ages 6-12 8 oz)</p>\n<p><br /><span style='tex
 t-decoration: underline\;'><strong>PM Snack</strong></span></p>\n<p>1/4-1/
 2 cup Bug Bites Crackers<br />4 oz 1% Milk (8 oz for ages 6-12)</p>
DTSTART:20240412T000000Z
DTEND:20240412T235959Z
SUMMARY:Friday
URL:https://denbighchristianacademy.com/index.php/school-calendar/lunch-men
 u/10-school-menu/1438-friday
X-ALT-DESC;FMTTYPE=TEXT/HTML:<p><span style='text-decoration: underline\;'>
 <strong>Breakfast</strong></span></p>\n<p>1 oz Turkey Sausage<br />WW Brea
 d<br />1/4-1/2 cup Mixed Fruit<br />1/4-1/2 cup Cereal (optional)<br />6 o
 z. 1% Milk (8 oz for ages 6-12)</p>\n<p><br /><span style='text-decoration
 : underline\;'><strong>AM Snack</strong></span></p>\n<p>1/4-1/2 cup WG Che
 ez-it Crackers<br />4 oz 1% Milk (8 oz for ages 6-12)</p>\n<p><br /><span 
 style='text-decoration: underline\;'><strong>Lunch</strong></span></p>\n<p
 >1 1/2 - 2 oz Hamburger/Cheeseburger<br />on WW Bun<br />1 oz bag Chips<br
  />1/4 cup Fruit Cocktail<br />6 oz.1% Milk (ages 6-12 8 oz)</p>\n<p><br /
 ><span style='text-decoration: underline\;'><strong>PM Snack</strong></spa
 n></p>\n<p>1/4-1/2 cup Bug Bites Crackers<br />4 oz 1% Milk (8 oz for ages
  6-12)</p>
END:VEVENT
END:VCALENDAR
