BEGIN:VCALENDAR
VERSION:2.0
PRODID:-//https://denbighchristianacademy.com//NONSGML kigkonsult.se iCalcr
 eator 2.29.29//
CALSCALE:GREGORIAN
METHOD:PUBLISH
UID:d10de4ec-3dfc-4973-9f71-b1ddebbc2891
X-WR-CALNAME:JCal Pro Calendar
X-WR-CALDESC:Your online events calendar
X-WR-TIMEZONE:UTC
BEGIN:VTIMEZONE
TZID:UTC
END:VTIMEZONE
BEGIN:VEVENT
UID:20240425T150000UTC-0903xiKo9M@https://www.denbighchristianacademy.com/
DTSTAMP:20260424T140102Z
CATEGORIES:School Menu
DESCRIPTION:<p><span style='text-decoration: underline\;'><strong>Breakfast
 </strong></span></p>\n<p>2 - 4 French Toast Sticks<br />1/4-1/2 cup Peache
 s<br />1/4-1/2 cup Cereal (optional)<br />6 oz. 1% Milk (8 oz for ages 6-1
 2)</p>\n<p><br /><span style='text-decoration: underline\;'><strong>AM Sna
 ck</strong></span></p>\n<p>2 pk Fruit Snacks (1.3 oz)<br />4 oz 1% Milk (8
  oz for ages 6-12)</p>\n<p><br /><span style='text-decoration: underline\;
 '><strong>Lunch</strong></span></p>\n<p>1 1/2 -2 oz Meat Loaf<br />WW Roll
 <br />1/4-1/2 cup Roasted Potatoes<br />1/4-1/2 cup Green Beans<br />1/4 c
 up Fruit Cocktail<br />6 oz.1% Milk (ages 6-12 8 oz)</p>\n<p><br /><span s
 tyle='text-decoration: underline\;'><strong>PM Snack</strong></span></p>\n
 <p>1/4-1/2 cup WG Ritz Bits Crackers<br />4 oz 1% Milk (8 oz for ages 6-12
 )</p>
DTSTART:20240425T000000Z
DTEND:20240425T235959Z
SUMMARY:Thursday
URL:https://denbighchristianacademy.com/index.php/school-calendar/lunch-men
 u/10-school-menu/1447-thursday
X-ALT-DESC;FMTTYPE=TEXT/HTML:<p><span style='text-decoration: underline\;'>
 <strong>Breakfast</strong></span></p>\n<p>2 - 4 French Toast Sticks<br />1
 /4-1/2 cup Peaches<br />1/4-1/2 cup Cereal (optional)<br />6 oz. 1% Milk (
 8 oz for ages 6-12)</p>\n<p><br /><span style='text-decoration: underline\
 ;'><strong>AM Snack</strong></span></p>\n<p>2 pk Fruit Snacks (1.3 oz)<br 
 />4 oz 1% Milk (8 oz for ages 6-12)</p>\n<p><br /><span style='text-decora
 tion: underline\;'><strong>Lunch</strong></span></p>\n<p>1 1/2 -2 oz Meat 
 Loaf<br />WW Roll<br />1/4-1/2 cup Roasted Potatoes<br />1/4-1/2 cup Green
  Beans<br />1/4 cup Fruit Cocktail<br />6 oz.1% Milk (ages 6-12 8 oz)</p>
 \n<p><br /><span style='text-decoration: underline\;'><strong>PM Snack</st
 rong></span></p>\n<p>1/4-1/2 cup WG Ritz Bits Crackers<br />4 oz 1% Milk (
 8 oz for ages 6-12)</p>
END:VEVENT
END:VCALENDAR
