BEGIN:VCALENDAR
VERSION:2.0
PRODID:-//https://denbighchristianacademy.com//NONSGML kigkonsult.se iCalcr
 eator 2.29.29//
CALSCALE:GREGORIAN
METHOD:PUBLISH
UID:081e9eae-4f4a-4402-b86c-c5d42f7bbba9
X-WR-CALNAME:JCal Pro Calendar
X-WR-CALDESC:Your online events calendar
X-WR-TIMEZONE:UTC
BEGIN:VTIMEZONE
TZID:UTC
END:VTIMEZONE
BEGIN:VEVENT
UID:20240704T190000UTC-20922zPH6X@https://www.denbighchristianacademy.com/
DTSTAMP:20260424T171139Z
CATEGORIES:School Menu
DESCRIPTION:<p>Closed for 4th of July</p>
DTSTART:20240704T000000Z
DTEND:20240704T235959Z
SUMMARY:Thursday - Closed for 4th of July
URL:https://denbighchristianacademy.com/index.php/school-calendar/lunch-men
 u/10-school-menu/1496-thursday-closed-for-4th-of-july
X-ALT-DESC;FMTTYPE=TEXT/HTML:<p>Closed for 4th of July</p>
END:VEVENT
END:VCALENDAR
