BEGIN:VCALENDAR
VERSION:2.0
PRODID:-//https://denbighchristianacademy.com//NONSGML kigkonsult.se iCalcr
 eator 2.29.29//
CALSCALE:GREGORIAN
METHOD:PUBLISH
UID:fc85ae26-7952-4dfa-af62-f08ac37a517a
X-WR-CALNAME:JCal Pro Calendar
X-WR-CALDESC:Your online events calendar
X-WR-TIMEZONE:UTC
BEGIN:VTIMEZONE
TZID:UTC
END:VTIMEZONE
BEGIN:VEVENT
UID:20240724T130000UTC-8219cJtIVK@https://www.denbighchristianacademy.com/
DTSTAMP:20260424T195250Z
CATEGORIES:School Menu
DESCRIPTION:<p><span style='text-decoration: underline\;'><strong>Breakfast
 </strong></span></p>\n<p>1 ½ oz Waffles<br />1/4-1/2 cup Fruit Cocktail<br
  />1/4-1/2 cup Cereal (optional)<br />6 oz. 1% Milk (8 oz for ages 6-12)</
 p>\n<p><br /><span style='text-decoration: underline\;'><strong>AM Snack</
 strong></span></p>\n<p>2 oz WG Cheez-it Crackers<br />4 oz 1% Milk (8 oz f
 or ages 6-12)</p>\n<p><br /><span style='text-decoration: underline\;'><st
 rong>Lunch</strong></span></p>\n<p>1 1/2 - 2 oz Pizza<br />1/4-1/2 cup Bro
 ccoli<br />1/4 cup Mixed Fruit<br />6 oz.1% Milk (ages 6-12 8 oz)</p>\n<p>
 <br /><span style='text-decoration: underline\;'><strong>PM Snack</strong>
 </span></p>\n<p>3 oz (2 each) Oreo Cookies<br />4 oz 1% Milk (8 oz for age
 s 6-12)</p>
DTSTART:20240724T000000Z
DTEND:20240724T235959Z
SUMMARY:Wednesday
URL:https://denbighchristianacademy.com/index.php/school-calendar/lunch-men
 u/10-school-menu/1510-wednesday
X-ALT-DESC;FMTTYPE=TEXT/HTML:<p><span style='text-decoration: underline\;'>
 <strong>Breakfast</strong></span></p>\n<p>1 ½ oz Waffles<br />1/4-1/2 cup 
 Fruit Cocktail<br />1/4-1/2 cup Cereal (optional)<br />6 oz. 1% Milk (8 oz
  for ages 6-12)</p>\n<p><br /><span style='text-decoration: underline\;'><
 strong>AM Snack</strong></span></p>\n<p>2 oz WG Cheez-it Crackers<br />4 o
 z 1% Milk (8 oz for ages 6-12)</p>\n<p><br /><span style='text-decoration:
  underline\;'><strong>Lunch</strong></span></p>\n<p>1 1/2 - 2 oz Pizza<br 
 />1/4-1/2 cup Broccoli<br />1/4 cup Mixed Fruit<br />6 oz.1% Milk (ages 6-
 12 8 oz)</p>\n<p><br /><span style='text-decoration: underline\;'><strong>
 PM Snack</strong></span></p>\n<p>3 oz (2 each) Oreo Cookies<br />4 oz 1% M
 ilk (8 oz for ages 6-12)</p>
END:VEVENT
END:VCALENDAR
