BEGIN:VCALENDAR
VERSION:2.0
PRODID:-//https://denbighchristianacademy.com//NONSGML kigkonsult.se iCalcr
 eator 2.29.29//
CALSCALE:GREGORIAN
METHOD:PUBLISH
UID:203e6acb-6d0b-484a-b60b-9443d494e4db
X-WR-CALNAME:JCal Pro Calendar
X-WR-CALDESC:Your online events calendar
X-WR-TIMEZONE:UTC
BEGIN:VTIMEZONE
TZID:UTC
END:VTIMEZONE
BEGIN:VEVENT
UID:20240904T190000UTC-9189s1Xkt3@https://www.denbighchristianacademy.com/
DTSTAMP:20260424T181828Z
CATEGORIES:School Menu
DESCRIPTION:<p><span style='text-decoration: underline\;'><strong>Breakfast
 </strong></span></p>\n<p>1 ½ oz Waffles<br />1/4-1/2 cup Pineapples<br />1
 /4-1/2 cup Cereal (optional)<br />6 oz. 1% Milk (8 oz for ages 6-12)</p>\n
 <p><br /><span style='text-decoration: underline\;'><strong>AM Snack</stro
 ng></span></p>\n<p>1/2 - 1 Banana<br />4 oz 1% Milk (8 oz for ages 6-12)</
 p>\n<p><br /><span style='text-decoration: underline\;'><strong>Lunch</str
 ong></span></p>\n<p>1 1/2 oz Hot Dog on<br />WW Bun<br />1/4-1/2 cup Mixed
  Vegetables<br />1/4 cup Peaches<br />6 oz.1% Milk (ages 6-12 8 oz)</p>\n<
 p><br /><span style='text-decoration: underline\;'><strong>PM Snack</stron
 g></span></p>\n<p>1.62 oz Asst. Fruit Snacks<br />4 oz 1% Milk (8 oz for a
 ges 6-12)</p>
DTSTART:20240904T000000Z
DTEND:20240904T235959Z
SUMMARY:Wednesday
URL:https://denbighchristianacademy.com/index.php/school-calendar/lunch-men
 u/10-school-menu/1588-wednesday
X-ALT-DESC;FMTTYPE=TEXT/HTML:<p><span style='text-decoration: underline\;'>
 <strong>Breakfast</strong></span></p>\n<p>1 ½ oz Waffles<br />1/4-1/2 cup 
 Pineapples<br />1/4-1/2 cup Cereal (optional)<br />6 oz. 1% Milk (8 oz for
  ages 6-12)</p>\n<p><br /><span style='text-decoration: underline\;'><stro
 ng>AM Snack</strong></span></p>\n<p>1/2 - 1 Banana<br />4 oz 1% Milk (8 oz
  for ages 6-12)</p>\n<p><br /><span style='text-decoration: underline\;'><
 strong>Lunch</strong></span></p>\n<p>1 1/2 oz Hot Dog on<br />WW Bun<br />
 1/4-1/2 cup Mixed Vegetables<br />1/4 cup Peaches<br />6 oz.1% Milk (ages 
 6-12 8 oz)</p>\n<p><br /><span style='text-decoration: underline\;'><stron
 g>PM Snack</strong></span></p>\n<p>1.62 oz Asst. Fruit Snacks<br />4 oz 1%
  Milk (8 oz for ages 6-12)</p>
END:VEVENT
END:VCALENDAR
